BEGIN:VCALENDAR
VERSION:2.0
PRODID:-//The Carlebach Shul - ECPv6.2.9//NONSGML v1.0//EN
CALSCALE:GREGORIAN
METHOD:PUBLISH
X-ORIGINAL-URL:https://www.thecarlebachshul.org
X-WR-CALDESC:Events for The Carlebach Shul
REFRESH-INTERVAL;VALUE=DURATION:PT1H
X-Robots-Tag:noindex
X-PUBLISHED-TTL:PT1H
BEGIN:VTIMEZONE
TZID:America/New_York
BEGIN:DAYLIGHT
TZOFFSETFROM:-0500
TZOFFSETTO:-0400
TZNAME:EDT
DTSTART:20240310T070000
END:DAYLIGHT
BEGIN:STANDARD
TZOFFSETFROM:-0400
TZOFFSETTO:-0500
TZNAME:EST
DTSTART:20241103T060000
END:STANDARD
END:VTIMEZONE
BEGIN:VEVENT
DTSTART;TZID=America/New_York:20240405T190700
DTEND;TZID=America/New_York:20240406T200900
DTSTAMP:20260421T190226
CREATED:20240219T161121Z
LAST-MODIFIED:20240405T141438Z
UID:10007870-1712344020-1712434140@www.thecarlebachshul.org
SUMMARY:Friday – Shabbat Schedule 4/5 - 4/6
DESCRIPTION:Friday Night 4/5\nShabbat Candle Lighting: 7:07 PM\nMincha 7:07 PM\nKabbalat Shabbat: Yehuda Green\nDrasha: Rabbi Naftali Citron \nSaturday Morning 4/6\nShabbat Mevarchim Nissan- Parshat Shemini/HaChodesh\nMorning Services: 9:30 AM\nSof Z’man Kriyat Shema: (Gr”a) 9:44 AM\nDrasha: Rabbi Naftali Citron\nMusaf: Yehuda Green\nKiddush following services\nPre-Mincha Shiur: Rabbi Naftali Citron: 6:00 PM at the Shul\n“What would the Ishbetzer say? A look at the Parsha\, Rambam\, and Daf Yomi from the Ishbitzer perspective”\nMincha: 7:00 PM\nDrasha: Rabbi Naftali Citron
URL:https://www.thecarlebachshul.org/event/friday-shabbat-schedule-4-5-4-6-2/
CATEGORIES:Shabbat
ATTACH;FMTTYPE=image/jpeg:https://www.thecarlebachshul.org/wp-content/uploads/2019/01/Carlebach-HP.jpg
END:VEVENT
BEGIN:VEVENT
DTSTART;TZID=America/New_York:20240405T193000
DTEND;TZID=America/New_York:20240405T220000
DTSTAMP:20260421T190226
CREATED:20240304T212553Z
LAST-MODIFIED:20240405T215033Z
UID:10007879-1712345400-1712354400@www.thecarlebachshul.org
SUMMARY:Reb Eli Chaim Carlebach - Yahrzeit Commemoration
DESCRIPTION:Eli Chaim\, as he was affectionately called\, was a warm and caring presence in the life of The Carlebach Shul. Reb Eli Chaim opened up the lost world of the Chassidic masters by his Institute’s publishing of encyclopedias of Chassidut. Please join the\nfamily and friends of Reb Eli Chaim for this Shabbat.
URL:https://www.thecarlebachshul.org/event/reb-eli-chaim-carlebach-yahrzeit-celebration/
CATEGORIES:Shabbat,Special Events
END:VEVENT
BEGIN:VEVENT
DTSTART;TZID=America/New_York:20240405T193000
DTEND;TZID=America/New_York:20240405T220000
DTSTAMP:20260421T190226
CREATED:20240322T153849Z
LAST-MODIFIED:20240405T215355Z
UID:10007880-1712345400-1712354400@www.thecarlebachshul.org
SUMMARY:April 5th- Reb Eli Chaim Carlebach Yahrzeit Commemoration
DESCRIPTION:Eli Chaim\, as he was affectionately called\, was a warm and caring presence in the life of The Carlebach Shul. Reb Eli Chaim opened up the lost world of the Chassidic masters by his Institute’s publishing of encyclopedias of Chassidut. Please join the\nfamily and friends of Reb Eli Chaim for Shabbat dinner\, April 5th.\nJust added to Shabbat dinner \nHappy Passover hour. \n15 wines selected to preview a wonderful seder\, and the rest of Passover. \nKosher for Passover Tequila. \nFull open bar with Ulysses.
URL:https://www.thecarlebachshul.org/event/reb-eli-chaim-carlebach-yahrzeit-commemoration/
CATEGORIES:Shabbat,Special Events
END:VEVENT
BEGIN:VEVENT
DTSTART;TZID=America/New_York:20240412T191400
DTEND;TZID=America/New_York:20240413T201700
DTSTAMP:20260421T190226
CREATED:20240219T161417Z
LAST-MODIFIED:20240412T152235Z
UID:10007871-1712949240-1713039420@www.thecarlebachshul.org
SUMMARY:Friday – Shabbat Schedule 4/12 - 4/13
DESCRIPTION:Friday Night 4/12\nShabbat Candle Lighting: 7:14 PM\nMincha 7:14 PM\nKabbalat Shabbat: Yehuda Green\nDrasha: Rabbi Naftali Citron \nSaturday Morning 4/13\nShabbat Parshat Tazria\nMorning Services: 9:30 AM\nSof Z’man Kriyat Shema: (Gr”a) 9:38 AM\nDrasha: Rabbi Naftali Citron\nMusaf: Yehuda Green\nKiddush following services\nPre-Mincha Shiur- Rabbi Naftali Citron: 6:05 PM at the Shul\n“The Laws and Customs of Pesach”\nMincha: 7:05 PM\nDrasha: Rabbi Naftali Citron
URL:https://www.thecarlebachshul.org/event/friday-shabbat-schedule-4-12-4-13-2/
CATEGORIES:Shabbat
ATTACH;FMTTYPE=image/jpeg:https://www.thecarlebachshul.org/wp-content/uploads/2019/01/Carlebach-HP.jpg
END:VEVENT
BEGIN:VEVENT
DTSTART;TZID=America/New_York:20240419T192200
DTEND;TZID=America/New_York:20240420T202500
DTSTAMP:20260421T190226
CREATED:20240219T163012Z
LAST-MODIFIED:20240419T145628Z
UID:10007873-1713554520-1713644700@www.thecarlebachshul.org
SUMMARY:Friday – Shabbat Schedule 4/19 - 4/20
DESCRIPTION:Friday Night 4/19\nShabbat Candle Lighting: 7:22 PM\nMincha 7:22 PM\nKabbalat Shabbat: Yehuda Green\nDrasha: Rabbi Naftali Citron \nSaturday Morning 4/20\nShabbat HaGadol Parshat Metzora\nMorning Services: 9:30 AM\nSof Z’man Kriyat Shema: (Gr”a) 9:31 AM\nDrasha: Rabbi Naftali Citron\nMusaf: Yehuda Green\nShabbat HaGadol Drasha: 6:15 PM at the Shul\nMincha: 7:15 PM\nDrasha: Rabbi Naftali Citron
URL:https://www.thecarlebachshul.org/event/friday-shabbat-schedule-4-19-4-20-2/
CATEGORIES:Shabbat
ATTACH;FMTTYPE=image/jpeg:https://www.thecarlebachshul.org/wp-content/uploads/2019/01/Carlebach-HP.jpg
END:VEVENT
BEGIN:VEVENT
DTSTART;TZID=America/New_York:20240426T192900
DTEND;TZID=America/New_York:20240427T203300
DTSTAMP:20260421T190226
CREATED:20240219T162334Z
LAST-MODIFIED:20240425T194045Z
UID:10009628-1714159740-1714249980@www.thecarlebachshul.org
SUMMARY:Friday – Shabbat Chol Hamoed Schedule 4/26 - 4/27
DESCRIPTION:Friday Night 4/26\nShabbat Candle Lighting: 7:29 PM\nMincha 7:30 PM\nKabbalat Shabbat: Max Edelkopf \nSaturday Morning 4/27\nShabbat Chol Hamoed\nMorning Services: 9:30 AM\nSof Z’man Kriyat Shema: (Gr”a) 9:26 AM\nMusaf: Max Edelkopf\nKiddush following services\nPre-Mincha Shiur: Rabbi Naftali Citron: 6:15 PM at the Shul\n“Teachings of the Ishbitzer on Maimonodes”\nMincha: 7:15 PM
URL:https://www.thecarlebachshul.org/event/friday-shabbat-schedule-4-19-4-20/
CATEGORIES:Shabbat
ATTACH;FMTTYPE=image/jpeg:https://www.thecarlebachshul.org/wp-content/uploads/2019/01/Carlebach-HP.jpg
END:VEVENT
END:VCALENDAR