BEGIN:VCALENDAR
VERSION:2.0
PRODID:-//The Carlebach Shul - ECPv6.2.9//NONSGML v1.0//EN
CALSCALE:GREGORIAN
METHOD:PUBLISH
X-ORIGINAL-URL:https://www.thecarlebachshul.org
X-WR-CALDESC:Events for The Carlebach Shul
REFRESH-INTERVAL;VALUE=DURATION:PT1H
X-Robots-Tag:noindex
X-PUBLISHED-TTL:PT1H
BEGIN:VTIMEZONE
TZID:America/New_York
BEGIN:DAYLIGHT
TZOFFSETFROM:-0500
TZOFFSETTO:-0400
TZNAME:EDT
DTSTART:20240310T070000
END:DAYLIGHT
BEGIN:STANDARD
TZOFFSETFROM:-0400
TZOFFSETTO:-0500
TZNAME:EST
DTSTART:20241103T060000
END:STANDARD
END:VTIMEZONE
BEGIN:VEVENT
DTSTART;TZID=America/New_York:20240503T193700
DTEND;TZID=America/New_York:20240504T204200
DTSTAMP:20260421T204459
CREATED:20240503T164726Z
LAST-MODIFIED:20240503T164728Z
UID:10010144-1714765020-1714855320@www.thecarlebachshul.org
SUMMARY:Friday – Shabbat Schedule 5/3-5/4
DESCRIPTION:Friday Night 5/3\nShabbat Candle Lighting: 7:37 PM\nMincha 7:40 PM\nKabbalat Shabbat: \nSaturday Morning 5/4\nShabbat Acharei Mot – Mevarchim Iyar\nMorning Services: 9:30 AM\nSof Z’man Kriyat Shema: (Gr”a) 9:21 AM\nMusaf:\nKiddush following services\nPre-Mincha Shiur: Rabbi Naftali Citron: 6:30 PM at the Shul\n“Teachings of the Ishbitzer on Maimonodes”\nMincha: 7:30 PM \n  \n 
URL:https://www.thecarlebachshul.org/event/friday-shabbat-schedule-4-19-4-20-3-4/
CATEGORIES:Shabbat
ATTACH;FMTTYPE=image/jpeg:https://www.thecarlebachshul.org/wp-content/uploads/2019/01/Carlebach-HP.jpg
END:VEVENT
BEGIN:VEVENT
DTSTART;TZID=America/New_York:20240510T194400
DTEND;TZID=America/New_York:20240511T205000
DTSTAMP:20260421T204459
CREATED:20240408T171042Z
LAST-MODIFIED:20240506T204817Z
UID:10009371-1715370240-1715460600@www.thecarlebachshul.org
SUMMARY:Friday – Shabbat Schedule 5/10-5/11
DESCRIPTION:Friday Night 5/10\nShabbat Candle Lighting: 7:44 PM\nMincha 7:45 PM\nKabbalat Shabbat: Yehuda Green \nSaturday Morning 5/11\nShabbat Kedoshim\nMorning Services: 9:30 AM\nSof Z’man Kriyat Shema: (Gr”a) 9:17 AM\nMusaf: Yehuda Green\nKiddush following services\nPre-Mincha Shiur: Rabbi Naftali Citron: 6:35 PM at the Shul\n“Teachings of the Ishbitzer on Maimonodes”\nMincha: 7:35 PM
URL:https://www.thecarlebachshul.org/event/friday-shabbat-schedule-4-19-4-20-3-3/
CATEGORIES:Shabbat
ATTACH;FMTTYPE=image/jpeg:https://www.thecarlebachshul.org/wp-content/uploads/2019/01/Carlebach-HP.jpg
END:VEVENT
BEGIN:VEVENT
DTSTART;TZID=America/New_York:20240517T195000
DTEND;TZID=America/New_York:20240518T205800
DTSTAMP:20260421T204459
CREATED:20240408T170906Z
LAST-MODIFIED:20240516T154504Z
UID:10009372-1715975400-1716065880@www.thecarlebachshul.org
SUMMARY:Friday – Shabbat Schedule 5/17 - 5/18
DESCRIPTION:Friday Night 5/17\nShabbat Candle Lighting: 7:51 PM\nMincha 7:55 PM\nKabbalat Shabbat: Yehuda Green \nSaturday Morning 5/18\nShabbat Emor\nMorning Services: 9:30 AM\nSof Z’man Kriyat Shema: (Gr”a) 9:14 AM\nMusaf: Yehuda Green\nKiddush following services\nPre-Mincha Shiur: Rabbi Naftali Citron: 6:45 PM at the Shul\n“Teachings of the Ishbitzer on Maimonodes”\nMincha: 7:45 PM
URL:https://www.thecarlebachshul.org/event/friday-shabbat-schedule-4-19-4-20-3-2/
CATEGORIES:Shabbat
ATTACH;FMTTYPE=image/jpeg:https://www.thecarlebachshul.org/wp-content/uploads/2019/01/Carlebach-HP.jpg
END:VEVENT
BEGIN:VEVENT
DTSTART;TZID=America/New_York:20240517T210000
DTEND;TZID=America/New_York:20240517T210000
DTSTAMP:20260421T204459
CREATED:20240502T155109Z
LAST-MODIFIED:20240516T154704Z
UID:10010146-1715979600-1715979600@www.thecarlebachshul.org
SUMMARY:May 17th Friday Night Dinner
DESCRIPTION:Join Rabbi Citron\, Dr. Raphael Kellman\, and Yehuda Green for Friday Night Dinner\n“Can we be a light unto the nations in a time of war?”\nClick Here to Reserve
URL:https://www.thecarlebachshul.org/event/may-17th-dinner/
CATEGORIES:Shabbat
END:VEVENT
BEGIN:VEVENT
DTSTART;TZID=America/New_York:20240524T195700
DTEND;TZID=America/New_York:20240525T210800
DTSTAMP:20260421T204459
CREATED:20240408T171553Z
LAST-MODIFIED:20240513T143510Z
UID:10009373-1716580620-1716671280@www.thecarlebachshul.org
SUMMARY:Friday – Shabbat Schedule 5/24 - 5/25
DESCRIPTION:Friday Night 5/24\nShabbat Candle Lighting: 7:57 PM\nMincha 8:00 PM\nKabbalat Shabbat: \nSaturday Morning 5/25\nShabbat Behar\nMorning Services: 9:30 AM\nSof Z’man Kriyat Shema: (Gr”a) 9:11 AM\nMusaf:\nKiddush following services\nPre-Mincha Shiur: Rabbi Naftali Citron: 7:00 PM at the Shul\n“Teachings of the Ishbitzer on Maimonodes”\nMincha: 8:00 PM
URL:https://www.thecarlebachshul.org/event/friday-shabbat-schedule-4-19-4-20-3-2-2/
CATEGORIES:Shabbat
ATTACH;FMTTYPE=image/jpeg:https://www.thecarlebachshul.org/wp-content/uploads/2019/01/Carlebach-HP.jpg
END:VEVENT
BEGIN:VEVENT
DTSTART;TZID=America/New_York:20240531T200200
DTEND;TZID=America/New_York:20240601T211200
DTSTAMP:20260421T204459
CREATED:20240408T171726Z
LAST-MODIFIED:20240531T153031Z
UID:10009374-1717185720-1717276320@www.thecarlebachshul.org
SUMMARY:Friday – Shabbat Schedule 5/31 - 6/1
DESCRIPTION:Friday Night 5/31\nShabbat Candle Lighting: 8:03 PM\nMincha 8:05 PM\nKabbalat Shabbat: \nSaturday Morning 6/1\nShabbat Mevarchim Sivan: Parshat Bechukotai\nMorning Services: 9:30 AM\nSof Z’man Kriyat Shema: (Gr”a) 9:11 AM\nMusaf:\nKiddush following services\nPre-Mincha Shiur: Rabbi Naftali Citron: 6:55 PM at the Shul\n“Teachings of the Ishbitzer on Maimonodes”\nMincha: 7:55 PM
URL:https://www.thecarlebachshul.org/event/friday-shabbat-schedule-4-19-4-20-3-2-2-2/
CATEGORIES:Shabbat
ATTACH;FMTTYPE=image/jpeg:https://www.thecarlebachshul.org/wp-content/uploads/2019/01/Carlebach-HP.jpg
END:VEVENT
END:VCALENDAR