BEGIN:VCALENDAR
VERSION:2.0
PRODID:-//The Carlebach Shul - ECPv6.2.9//NONSGML v1.0//EN
CALSCALE:GREGORIAN
METHOD:PUBLISH
X-ORIGINAL-URL:https://www.thecarlebachshul.org
X-WR-CALDESC:Events for The Carlebach Shul
REFRESH-INTERVAL;VALUE=DURATION:PT1H
X-Robots-Tag:noindex
X-PUBLISHED-TTL:PT1H
BEGIN:VTIMEZONE
TZID:America/New_York
BEGIN:DAYLIGHT
TZOFFSETFROM:-0500
TZOFFSETTO:-0400
TZNAME:EDT
DTSTART:20240310T070000
END:DAYLIGHT
BEGIN:STANDARD
TZOFFSETFROM:-0400
TZOFFSETTO:-0500
TZNAME:EST
DTSTART:20241103T060000
END:STANDARD
END:VTIMEZONE
BEGIN:VEVENT
DTSTART;TZID=America/New_York:20240531T200200
DTEND;TZID=America/New_York:20240601T211200
DTSTAMP:20260421T222027
CREATED:20240408T171726Z
LAST-MODIFIED:20240531T153031Z
UID:10009374-1717185720-1717276320@www.thecarlebachshul.org
SUMMARY:Friday – Shabbat Schedule 5/31 - 6/1
DESCRIPTION:Friday Night 5/31\nShabbat Candle Lighting: 8:03 PM\nMincha 8:05 PM\nKabbalat Shabbat: \nSaturday Morning 6/1\nShabbat Mevarchim Sivan: Parshat Bechukotai\nMorning Services: 9:30 AM\nSof Z’man Kriyat Shema: (Gr”a) 9:11 AM\nMusaf:\nKiddush following services\nPre-Mincha Shiur: Rabbi Naftali Citron: 6:55 PM at the Shul\n“Teachings of the Ishbitzer on Maimonodes”\nMincha: 7:55 PM
URL:https://www.thecarlebachshul.org/event/friday-shabbat-schedule-4-19-4-20-3-2-2-2/
CATEGORIES:Shabbat
ATTACH;FMTTYPE=image/jpeg:https://www.thecarlebachshul.org/wp-content/uploads/2019/01/Carlebach-HP.jpg
END:VEVENT
BEGIN:VEVENT
DTSTART;TZID=America/New_York:20240607T192900
DTEND;TZID=America/New_York:20240608T203300
DTSTAMP:20260421T222027
CREATED:20240408T172408Z
LAST-MODIFIED:20240604T171602Z
UID:10009375-1717788540-1717878780@www.thecarlebachshul.org
SUMMARY:Friday – Shabbat Schedule 6/7 - 6/8
DESCRIPTION:Friday Night 6/7\nShabbat Candle Lighting: 8:08 PM\nMincha 7:45 PM\nKabbalat Shabbat: \nSaturday Morning 6/8\nShabbat Bamidbar\nMorning Services: 9:30 AM\nSof Z’man Kriyat Shema: (Gr”a) 9:09 AM\nMusaf:\nKiddush following services\nPre-Mincha Shiur: Rabbi Naftali Citron: 7:00 PM at the Shul\n“Teachings of the Ishbitzer on Maimonodes”\nMincha: 8:00 PM
URL:https://www.thecarlebachshul.org/event/friday-shabbat-schedule-4-19-4-20-3-2-2-2-2/
CATEGORIES:Shabbat
ATTACH;FMTTYPE=image/jpeg:https://www.thecarlebachshul.org/wp-content/uploads/2019/01/Carlebach-HP.jpg
END:VEVENT
BEGIN:VEVENT
DTSTART;TZID=America/New_York:20240614T201100
DTEND;TZID=America/New_York:20240615T212000
DTSTAMP:20260421T222027
CREATED:20240408T172609Z
LAST-MODIFIED:20240614T213354Z
UID:10009629-1718395860-1718486400@www.thecarlebachshul.org
SUMMARY:Friday – Shabbat Schedule 6/14 - 6/15
DESCRIPTION:Friday Night 6/14\nShabbat Candle Lighting: 8:11 PM\nMincha: 7:45 PM\nKabbalat Shabbat: \nSaturday Morning 6/15\nShabbat Naso\nMorning Services: 9:30 AM\nSof Z’man Kriyat Shema: (Gr”a) 9:10 AM\nMusaf:\nKiddush following services\nPre-Mincha Shiur: Rabbi Naftali Citron: 7:05 PM at the Shul\n“Teachings of the Ishbitzer on Maimonides”\nMincha: 8:05 PM
URL:https://www.thecarlebachshul.org/event/friday-shabbat-schedule-4-19-4-20-3-2-2-2-2-2/
CATEGORIES:Shabbat
ATTACH;FMTTYPE=image/jpeg:https://www.thecarlebachshul.org/wp-content/uploads/2019/01/Carlebach-HP.jpg
END:VEVENT
BEGIN:VEVENT
DTSTART;TZID=America/New_York:20240621T201300
DTEND;TZID=America/New_York:20240622T212200
DTSTAMP:20260421T222027
CREATED:20240408T183336Z
LAST-MODIFIED:20240619T151012Z
UID:10009630-1719000780-1719091320@www.thecarlebachshul.org
SUMMARY:Friday – Shabbat Schedule 6/21 - 6/22
DESCRIPTION:Friday Night 6/21\nShabbat Candle Lighting: 8:13 PM\nMincha 7:45 PM\nKabbalat Shabbat: \nSaturday Morning 6/22\nShabbat Behaalotcha\nMorning Services: 9:30 AM\nSof Z’man Kriyat Shema: (Gr”a) 9:11 AM\nDrasha: Goldie Milgram\nMusaf:\nKiddush following services\nPre-Mincha Shiur: Rabbi Naftali Citron: 7:05 PM at the Shul\n“Teachings of the Ishbitzer on Maimonodes”\nMincha: 8:05 PM
URL:https://www.thecarlebachshul.org/event/friday-shabbat-schedule-4-19-4-20-3-2-2-2-2-2-2/
CATEGORIES:Shabbat
ATTACH;FMTTYPE=image/jpeg:https://www.thecarlebachshul.org/wp-content/uploads/2019/01/Carlebach-HP.jpg
END:VEVENT
BEGIN:VEVENT
DTSTART;TZID=America/New_York:20240628T201300
DTEND;TZID=America/New_York:20240629T212200
DTSTAMP:20260421T222027
CREATED:20240408T183801Z
LAST-MODIFIED:20240624T154947Z
UID:10009881-1719605580-1719696120@www.thecarlebachshul.org
SUMMARY:Friday – Shabbat Schedule 6/28 - 6/29
DESCRIPTION:Friday Night 6/28\nShabbat Candle Lighting: 8:13 PM\nMincha 7:45 PM\nKabbalat Shabbat: \nSaturday Morning 6/29\nShabbat Shlach\nMorning Services: 9:30 AM\nSof Z’man Kriyat Shema: (Gr”a) 9:11 AM\nMusaf:\nKiddush following services\nPre-Mincha Shiur: Rabbi Naftali Citron: 7:15 PM at the Shul\n“Teachings of the Ishbitzer on Maimonodes.”\nMincha: 8:15 PM
URL:https://www.thecarlebachshul.org/event/friday-shabbat-schedule-4-19-4-20-3-2-2-2-2-2-2-2/
CATEGORIES:Shabbat
ATTACH;FMTTYPE=image/jpeg:https://www.thecarlebachshul.org/wp-content/uploads/2019/01/Carlebach-HP.jpg
END:VEVENT
END:VCALENDAR