BEGIN:VCALENDAR
VERSION:2.0
PRODID:-//The Carlebach Shul - ECPv6.2.9//NONSGML v1.0//EN
CALSCALE:GREGORIAN
METHOD:PUBLISH
X-ORIGINAL-URL:https://www.thecarlebachshul.org
X-WR-CALDESC:Events for The Carlebach Shul
REFRESH-INTERVAL;VALUE=DURATION:PT1H
X-Robots-Tag:noindex
X-PUBLISHED-TTL:PT1H
BEGIN:VTIMEZONE
TZID:America/New_York
BEGIN:DAYLIGHT
TZOFFSETFROM:-0500
TZOFFSETTO:-0400
TZNAME:EDT
DTSTART:20240310T070000
END:DAYLIGHT
BEGIN:STANDARD
TZOFFSETFROM:-0400
TZOFFSETTO:-0500
TZNAME:EST
DTSTART:20241103T060000
END:STANDARD
END:VTIMEZONE
BEGIN:VEVENT
DTSTART;TZID=America/New_York:20240802T195200
DTEND;TZID=America/New_York:20240803T205400
DTSTAMP:20260421T201004
CREATED:20240409T204531Z
LAST-MODIFIED:20240802T135750Z
UID:10010137-1722628320-1722718440@www.thecarlebachshul.org
SUMMARY:Friday – Shabbat Schedule 8/2 - 8/3
DESCRIPTION:Friday Night 8/2\nShabbat Candle Lighting: 7:52 PM\nMincha 7:50 PM\nKabbalat Shabbat: Eli Cohn\nDrasha: Shy Yellin \nSaturday Morning 8/3\nShabbat Matot-Maasei\nParsha Q&A with Rabbi Betzallel Edwards: 9:00 AM\nMorning Services: 9:30 AM\nSof Z’man Kriyat Shema: (Gr”a) 9:26 AM\nDrasha: Rabbi Betzallel Edwards\nMusaf: Eli Cohn\nKiddush following services\nPre-Mincha Shiur: 6:45 PM at the Shul: Rabbi Betzallel Edwards: Prayer and Healing in the way of the Baal Shem Tov\nMincha: 7:45 PM
URL:https://www.thecarlebachshul.org/event/friday-shabbat-schedule-8-2-8-3-2/
CATEGORIES:Shabbat
ATTACH;FMTTYPE=image/jpeg:https://www.thecarlebachshul.org/wp-content/uploads/2019/01/Carlebach-HP.jpg
END:VEVENT
BEGIN:VEVENT
DTSTART;TZID=America/New_York:20240809T194300
DTEND;TZID=America/New_York:20240810T204500
DTSTAMP:20260421T201004
CREATED:20240409T204751Z
LAST-MODIFIED:20240808T143141Z
UID:10010138-1723232580-1723322700@www.thecarlebachshul.org
SUMMARY:Friday – Shabbat Schedule 8/9 - 8/10
DESCRIPTION:Friday Night 8/9\nShabbat Candle Lighting: 7:43 PM\nMincha 7:45 PM\nKabbalat Shabbat: Yehuda Green\nDrasha: Rabbi Naftali Citron \nSaturday Morning 8/10\nShabbat Devarim\nMorning Services: 9:30 AM\nSof Z’man Kriyat Shema: (Gr”a) 9:29 AM\nDrasha: Rabbi Chaim Zev Citron\nMusaf: Yehuda Green\nKiddush following services\nPre-Mincha Shiur: Rabbi Chaim Zev Citron: 6:35 PM at the Shul\nPirkei Avot: Ethics of our ancestors according to the Maharal of Prague\nMincha: 7:35 PM
URL:https://www.thecarlebachshul.org/event/friday-shabbat-schedule-8-9-8-10-2/
CATEGORIES:Shabbat
ATTACH;FMTTYPE=image/jpeg:https://www.thecarlebachshul.org/wp-content/uploads/2019/01/Carlebach-HP.jpg
END:VEVENT
BEGIN:VEVENT
DTSTART;TZID=America/New_York:20240816T193400
DTEND;TZID=America/New_York:20240817T203400
DTSTAMP:20260421T201004
CREATED:20240409T205014Z
LAST-MODIFIED:20240812T030449Z
UID:10010139-1723836840-1723926840@www.thecarlebachshul.org
SUMMARY:Friday – Shabbat Schedule 8/16 - 8/17
DESCRIPTION:Friday Night 8/16\nShabbat Candle Lighting: 7:34 PM\nMincha 7:35 PM\nKabbalat Shabbat:\nDrasha: Rabbi Naftali Citron \nSaturday Morning 8/17\nShabbat Nachamu – Parshat Vaetchanan\nMorning Services: 9:30 AM\nSof Z’man Kriyat Shema: (Gr”a) 9:31 AM\nDrasha: Rabbi Naftali Citron\nMusaf:\nKiddush following services\nPre-Mincha Shiur: Rabbi Naftali Citron: 6:25 PM at the Shul\nMincha: 7:25 PM
URL:https://www.thecarlebachshul.org/event/friday-shabbat-schedule-8-16-8-17-2/
CATEGORIES:Shabbat
ATTACH;FMTTYPE=image/jpeg:https://www.thecarlebachshul.org/wp-content/uploads/2019/01/Carlebach-HP.jpg
END:VEVENT
BEGIN:VEVENT
DTSTART;TZID=America/New_York:20240823T192300
DTEND;TZID=America/New_York:20240824T202300
DTSTAMP:20260421T201004
CREATED:20240409T205222Z
LAST-MODIFIED:20240816T145457Z
UID:10010140-1724440980-1724530980@www.thecarlebachshul.org
SUMMARY:Friday – Shabbat Schedule 8/23 - 8/24
DESCRIPTION:Friday Night 8/23\nShabbat Candle Lighting: 7:23 PM\nMincha 7:25 PM\nKabbalat Shabbat:\nDrasha: Shy Yellin \nSaturday Morning 8/24\nShabbat Eikev\nParsha Shiur: Emuna Witt: 9:00 AM\nMorning Services: 9:30 AM\nSof Z’man Kriyat Shema: (Gr”a) 9:34 AM\nDrasha: Emuna Witt\nMusaf:\nKiddush following services\nPre-Mincha Shiur: Emuna Witt: 6:15 PM at the Shul\nMincha: 7:15 PM
URL:https://www.thecarlebachshul.org/event/friday-shabbat-schedule-8-23-8-24-2/
CATEGORIES:Shabbat
ATTACH;FMTTYPE=image/jpeg:https://www.thecarlebachshul.org/wp-content/uploads/2019/01/Carlebach-HP.jpg
END:VEVENT
BEGIN:VEVENT
DTSTART;TZID=America/New_York:20240830T191300
DTEND;TZID=America/New_York:20240831T201100
DTSTAMP:20260421T201004
CREATED:20240409T205423Z
LAST-MODIFIED:20240829T202728Z
UID:10010141-1725045180-1725135060@www.thecarlebachshul.org
SUMMARY:Friday – Shabbat Schedule 8/30 - 8/31
DESCRIPTION:Friday Night 8/30\nShabbat Candle Lighting: 7:13 PM\nMincha 7:15 PM\nKabbalat Shabbat:\nDrasha: Rabbi Naftali Citron \nSaturday Morning 8/31\nShabbat Mevarchim- Parshat Re’eh\nParsha Q&A Shiur: 9:00 AM\nMorning Services: 9:30 AM\nSof Z’man Kriyat Shema: (Gr”a) 9:37 AM\nDrasha: Rabbi Naftali Citron\nMusaf:\nKiddush following services\nPre-Mincha Shiur: Rabbi Naftali Citron: 6:05 PM at the Shul\n“Welcoming Elul: The inner meaning of our service this month”\nMincha: 7:05 PM
URL:https://www.thecarlebachshul.org/event/friday-shabbat-schedule-8-30-8-31-2/
CATEGORIES:Shabbat
ATTACH;FMTTYPE=image/jpeg:https://www.thecarlebachshul.org/wp-content/uploads/2019/01/Carlebach-HP.jpg
END:VEVENT
END:VCALENDAR