BEGIN:VCALENDAR
VERSION:2.0
PRODID:-//The Carlebach Shul - ECPv6.2.9//NONSGML v1.0//EN
CALSCALE:GREGORIAN
METHOD:PUBLISH
X-ORIGINAL-URL:https://www.thecarlebachshul.org
X-WR-CALDESC:Events for The Carlebach Shul
REFRESH-INTERVAL;VALUE=DURATION:PT1H
X-Robots-Tag:noindex
X-PUBLISHED-TTL:PT1H
BEGIN:VTIMEZONE
TZID:America/New_York
BEGIN:DAYLIGHT
TZOFFSETFROM:-0500
TZOFFSETTO:-0400
TZNAME:EDT
DTSTART:20240310T070000
END:DAYLIGHT
BEGIN:STANDARD
TZOFFSETFROM:-0400
TZOFFSETTO:-0500
TZNAME:EST
DTSTART:20241103T060000
END:STANDARD
END:VTIMEZONE
BEGIN:VEVENT
DTSTART;TZID=America/New_York:20240906T190100
DTEND;TZID=America/New_York:20240907T195900
DTSTAMP:20260421T182919
CREATED:20240830T144720Z
LAST-MODIFIED:20240830T144721Z
UID:10010349-1725649260-1725739140@www.thecarlebachshul.org
SUMMARY:Friday – Shabbat Schedule 9/6 - 9/7
DESCRIPTION:Friday Night 9/6\nShabbat Candle Lighting: 7:01 PM\nMincha 7:05 PM\nKabbalat Shabbat: Yehuda Green\nDrasha: Rabbi Naftali Citron \nSaturday Morning 9/7\nShabbat Shoftim\nParsha Q&A Shiur: 9:00 AM\nMorning Services: 9:30 AM\nSof Z’man Kriyat Shema: (Gr”a) 9:39 AM\nDrasha: Rabbi Naftali Citron\nMusaf: Yehuda Green\nKiddush following services\nPre-Mincha Shiur: Rabbi Naftali Citron: 5:55 PM at the Shul\nMincha: 6:55 PM
URL:https://www.thecarlebachshul.org/event/friday-shabbat-schedule-9-6-9-7-2-2/
CATEGORIES:Shabbat
ATTACH;FMTTYPE=image/jpeg:https://www.thecarlebachshul.org/wp-content/uploads/2019/01/Carlebach-HP.jpg
END:VEVENT
BEGIN:VEVENT
DTSTART;TZID=America/New_York:20240913T184900
DTEND;TZID=America/New_York:20240914T194700
DTSTAMP:20260421T182919
CREATED:20240820T185708Z
LAST-MODIFIED:20240913T162424Z
UID:10010350-1726253340-1726343220@www.thecarlebachshul.org
SUMMARY:Friday – Shabbat Schedule 9/13 - 9/14
DESCRIPTION:Friday Night 9/13\nShabbat Candle Lighting: 6:49 PM\nMincha 6:55 PM\nKabbalat Shabbat:\nDrasha: Rabbi Naftali Citron \nSaturday Morning 9/14\nShabbat Ki Teitzei\nParsha Q&A Shiur: 9:00 AM\nMorning Services: 9:30 AM\nSof Z’man Kriyat Shema: (Gr”a) 9:41 AM\nDrasha: Rabbi Naftali Citron\nMusaf:\nKiddush following services\nPre-Mincha Shiur: Rabbi Naftali Citron: 5:40 PM at the Shul\nThe Ben Ish Chai: The Life & Teachings of a great Sefardic Kabbalist and Halachik scholar\nMincha: 6:40 PM
URL:https://www.thecarlebachshul.org/event/friday-shabbat-schedule-9-13-9-14-2/
CATEGORIES:Shabbat
ATTACH;FMTTYPE=image/jpeg:https://www.thecarlebachshul.org/wp-content/uploads/2019/01/Carlebach-HP.jpg
END:VEVENT
BEGIN:VEVENT
DTSTART;TZID=America/New_York:20240920T183700
DTEND;TZID=America/New_York:20240921T193400
DTSTAMP:20260421T182919
CREATED:20240820T190047Z
LAST-MODIFIED:20240920T165636Z
UID:10010351-1726857420-1726947240@www.thecarlebachshul.org
SUMMARY:Friday – Shabbat Schedule 9/20 - 9/21
DESCRIPTION:Friday Night 9/20\nShabbat Candle Lighting: 6:37 PM\nMincha 6:45 PM\nKabbalat Shabbat: Yaakov Blum\nDrasha: Rabbi Naftali Citron \nSaturday Morning 9/21\nShabbat Ki Tavo\n \nParsha Q&A Shiur: 9:00 AM –\nSponsored anonymously for a complete and immediate Refuah Shelema for Hadassah Chaviva bat Haya Faiga \nMorning Services: 9:30 AM\nSof Z’man Kriyat Shema: (Gr”a) 9:43 AM\nDrasha: Rabbi Naftali Citron\nMusaf:\nKiddush following services\nPre-Mincha Shiur: Rabbi Naftali Citron: 5:30 PM at the Shul\nTeachings of the Baal Shem Tov & The Alter Rebbe of Chabad on the occasion of their birthdays\, Chai Elul\n \nSponsored anonymously In memory of Elyakem Aleksander ben Avraham. May he continue to live forever in our hearts. We miss you profoundly \nMincha: 6:30 PM
URL:https://www.thecarlebachshul.org/event/friday-shabbat-schedule-9-20-9-21-2/
CATEGORIES:Shabbat
ATTACH;FMTTYPE=image/jpeg:https://www.thecarlebachshul.org/wp-content/uploads/2019/01/Carlebach-HP.jpg
END:VEVENT
BEGIN:VEVENT
DTSTART;TZID=America/New_York:20240927T182600
DTEND;TZID=America/New_York:20240928T192200
DTSTAMP:20260421T182919
CREATED:20240820T191115Z
LAST-MODIFIED:20240920T165824Z
UID:10010352-1727461560-1727551320@www.thecarlebachshul.org
SUMMARY:Friday – Shabbat Schedule 9/27 - 9/28
DESCRIPTION:Friday Night 9/27\nShabbat Candle Lighting: 6:26 PM\nMincha 6:30 PM\nKabbalat Shabbat: Yehuda Green\nDrasha: Rabbi Naftali Citron \nSaturday Morning 9/28\nShabbat Netzavim-Vayeilech\nParsha Q&A Shiur: 9:00 AM\nMorning Services: 9:30 AM\nSof Z’man Kriyat Shema: (Gr”a) 9:45 AM\nDrasha: Rabbi Naftali Citron\nMusaf: Yehuda Green\nKiddush following services\nPre-Mincha Shiur: Rabbi Naftali Citron: 5:20 PM at the Shul\nSponsored anonymously\, in memory of Yosef Ben Avraham\nMincha: 6:20 PM
URL:https://www.thecarlebachshul.org/event/friday-shabbat-schedule-9-27-9-28-2/
CATEGORIES:Shabbat
ATTACH;FMTTYPE=image/jpeg:https://www.thecarlebachshul.org/wp-content/uploads/2019/01/Carlebach-HP.jpg
END:VEVENT
END:VCALENDAR