BEGIN:VCALENDAR
VERSION:2.0
PRODID:-//The Carlebach Shul - ECPv6.2.9//NONSGML v1.0//EN
CALSCALE:GREGORIAN
METHOD:PUBLISH
X-WR-CALNAME:The Carlebach Shul
X-ORIGINAL-URL:https://www.thecarlebachshul.org
X-WR-CALDESC:Events for The Carlebach Shul
REFRESH-INTERVAL;VALUE=DURATION:PT1H
X-Robots-Tag:noindex
X-PUBLISHED-TTL:PT1H
BEGIN:VTIMEZONE
TZID:America/New_York
BEGIN:DAYLIGHT
TZOFFSETFROM:-0500
TZOFFSETTO:-0400
TZNAME:EDT
DTSTART:20250309T070000
END:DAYLIGHT
BEGIN:STANDARD
TZOFFSETFROM:-0400
TZOFFSETTO:-0500
TZNAME:EST
DTSTART:20251102T060000
END:STANDARD
END:VTIMEZONE
BEGIN:VEVENT
DTSTART;TZID=America/New_York:20250801T195300
DTEND;TZID=America/New_York:20250802T205600
DTSTAMP:20260420T231732
CREATED:20250324T191031Z
LAST-MODIFIED:20250801T171141Z
UID:10012131-1754077980-1754168160@www.thecarlebachshul.org
SUMMARY:Friday – Shabbat Schedule 08/01- 08/02
DESCRIPTION:Friday Night 08/01\nShabbat Candle Lighting: 7:53 PM\nMincha 7:53 PM\nKabbalat Shabbat: Yehuda Green\nDrasha: Rabbi Dr. Mordechai Salfer \n  \nSaturday Morning 08/02\nShabbat Chazon – Parshat Devarim\nParsha Q&A Shiur: 9:00 AM\nMorning Services: 9:30 AM\nSof Z’man Kriyat Shema: (Gr”a) 9:27 AM\nDrasha: Rabbi Naftali Citron\nMusaf: Yehuda Green\nKiddush following services\nMincha: 1:45 PM\nNo Food or Drink after: 8:09 PM\nShabbat ends: 8:56 PM\nMaariv\, followed by Eicha: 9:30 PM\nAfter Eicha there will be Songs of Reb Shlomo appropriate for Tisha B’av led by Yehuda Green and Rabbi Naftali Citron with special guests.\nFor our complete Tisha B’Av Schedule\, Click here
URL:https://www.thecarlebachshul.org/event/friday-shabbat-schedule-08-01-08-02/
CATEGORIES:Shabbat
ATTACH;FMTTYPE=image/jpeg:https://www.thecarlebachshul.org/wp-content/uploads/2019/01/Carlebach-HP.jpg
END:VEVENT
BEGIN:VEVENT
DTSTART;TZID=America/New_York:20250801T210000
DTEND;TZID=America/New_York:20250801T234500
DTSTAMP:20260420T231732
CREATED:20250627T161800Z
LAST-MODIFIED:20250727T231101Z
UID:10018845-1754082000-1754091900@www.thecarlebachshul.org
SUMMARY:Shabbat Chazon Dinner with Rabbi Naftali Citron\, Yehuda Green\, and guest speakers Rabbi Dr. Mordechai & Nechama Salfer
DESCRIPTION:Shabbat Chazon Friday night Dinner\nwith Rabbi Naftali Citron\, Yehuda Green\, and guest speakers Rabbi Dr. Mordechai & Nechama Salfer\nMembers: $50; Non-members $60 with a $10 discount if reserved before Wednesday\, July 30th \nTo read more on our guest speakers\, click here \nClick Here to Reserve\n  \nThis dinner is dedicated in memory of our beloved past President\, Moshe Liebert\, on the occasion of his Twenty-Fifth Yahrtzeit.
URL:https://www.thecarlebachshul.org/event/shabbat-dinner-in-memory-of-moshe-liebert-august-1st/
CATEGORIES:Shabbat
END:VEVENT
BEGIN:VEVENT
DTSTART;TZID=America/New_York:20250808T194400
DTEND;TZID=America/New_York:20250809T204700
DTSTAMP:20260420T231732
CREATED:20250324T191556Z
LAST-MODIFIED:20250805T143639Z
UID:10012132-1754682240-1754772420@www.thecarlebachshul.org
SUMMARY:Friday – Shabbat Schedule 08/08- 08/09
DESCRIPTION:Friday Night 08/08\nShabbat Candle Lighting: 7:44 PM\nMincha 7:44 PM\nKabbalat Shabbat\nDrasha: Rabbi Naftali Citron \nSaturday Morning 08/09\nShabbat Parshat Va’etchanan\nParsha Q&A Shiur: 9:00 AM\nMorning Services: 9:30 AM\nSof Z’man Kriyat Shema: (Gr”a) 9:30 AM\nDrasha: Rabbi Naftali Citron\nMusaf\nKiddush following services\nPre-Mincha Shiur: Rabbi Naftali Citron: 6:35 PM\nMincha: 7:35 PM\nFollowed by Seudah Shelisheet\, sponsored by Iris Schneider\, in memory of her father\, Isador
URL:https://www.thecarlebachshul.org/event/friday-shabbat-schedule-08-08-08-09/
CATEGORIES:Shabbat
ATTACH;FMTTYPE=image/jpeg:https://www.thecarlebachshul.org/wp-content/uploads/2019/01/Carlebach-HP.jpg
END:VEVENT
BEGIN:VEVENT
DTSTART;TZID=America/New_York:20250808T194500
DTEND;TZID=America/New_York:20250808T233000
DTSTAMP:20260420T231732
CREATED:20250731T172749Z
LAST-MODIFIED:20250808T172133Z
UID:10019168-1754682300-1754695800@www.thecarlebachshul.org
SUMMARY:Shabbat Nachamu Dinner
DESCRIPTION:Shabbat Nachamu Dinner\nFriday night\, August 8th\nMincha/Kabbalat Shabbat 7:44 PM\nPrior Reservations required Reservations for this week’s Shabbat dinner have now closed\nThank you to the Kazarnovsky family for their partial sponsorship of this Dinner.\nAdditional Sponsorships are welcome.\nClick here to sponsor
URL:https://www.thecarlebachshul.org/event/shabbat-nachamu-dinner/
CATEGORIES:Shabbat
END:VEVENT
BEGIN:VEVENT
DTSTART;TZID=America/New_York:20250815T193500
DTEND;TZID=America/New_York:20250816T203600
DTSTAMP:20260420T231732
CREATED:20250324T192019Z
LAST-MODIFIED:20250814T170416Z
UID:10012133-1755286500-1755376560@www.thecarlebachshul.org
SUMMARY:Friday – Shabbat Schedule 08/15- 08/16
DESCRIPTION:Friday Night 08/15\nShabbat Candle Lighting: 7:35 PM\nMincha 7:35 PM\nKabbalat Shabbat\nDrasha \nSaturday Morning 08/16\nShabbat Parshat Eikev\nParsha Q&A Shiur: 9:00 AM\nMorning Services: 9:30 AM\nSof Z’man Kriyat Shema: (Gr”a) 9:33 AM\nDrasha\nMusaf\nKiddush following services\nPre-Mincha Shiur: 6:30 PM\nMincha: 7:30 PM
URL:https://www.thecarlebachshul.org/event/friday-shabbat-schedule-08-15-08-16/
CATEGORIES:Shabbat
ATTACH;FMTTYPE=image/jpeg:https://www.thecarlebachshul.org/wp-content/uploads/2019/01/Carlebach-HP.jpg
END:VEVENT
BEGIN:VEVENT
DTSTART;TZID=America/New_York:20250822T192500
DTEND;TZID=America/New_York:20250823T202500
DTSTAMP:20260420T231732
CREATED:20250324T192235Z
LAST-MODIFIED:20250324T192235Z
UID:10012134-1755890700-1755980700@www.thecarlebachshul.org
SUMMARY:Friday – Shabbat Schedule 08/22- 08/23
DESCRIPTION:Friday Night 08/22\nShabbat Candle Lighting: 7:25 PM\nMincha 7:25 PM\nKabbalat Shabbat\nDrasha: Rabbi Naftali Citron \nSaturday Morning 08/23\nShabbat Parshat Re’eh\nParsha Q&A Shiur: 9:00 AM\nMorning Services: 9:30 AM\nSof Z’man Kriyat Shema: (Gr”a) 9:36 AM\nDrasha: Rabbi Naftali Citron\nMusaf\nKiddush following services\nPre-Mincha Shiur: Rabbi Naftali Citron: 6:20 PM\nMincha: 7:20 PM
URL:https://www.thecarlebachshul.org/event/friday-shabbat-schedule-08-22-08-23/
CATEGORIES:Shabbat
ATTACH;FMTTYPE=image/jpeg:https://www.thecarlebachshul.org/wp-content/uploads/2019/01/Carlebach-HP.jpg
END:VEVENT
BEGIN:VEVENT
DTSTART;TZID=America/New_York:20250829T191400
DTEND;TZID=America/New_York:20250830T201300
DTSTAMP:20260420T231732
CREATED:20250324T192458Z
LAST-MODIFIED:20250711T145835Z
UID:10012135-1756494840-1756584780@www.thecarlebachshul.org
SUMMARY:Friday – Shabbat Schedule 08/29- 08/30
DESCRIPTION:Friday Night 08/29\nShabbat Candle Lighting: 7:14 PM\nMincha 7:14 PM\nKabbalat Shabbat\nDrasha: Rabbi Naftali Citron \nSaturday Morning 08/30\nShabbat Parshat Shoftim\nParsha Q&A Shiur: 9:00 AM\nMorning Services: 9:30 AM\nSof Z’man Kriyat Shema: (Gr”a) 9:38 AM\nDrasha: Rabbi Naftali Citron\nMusaf\nKiddush following services\nPre-Mincha Shiur: Rabbi Naftali Citron: 6:05 PM\nMincha: 7:05 PM
URL:https://www.thecarlebachshul.org/event/friday-shabbat-schedule-08-29-08-30/
CATEGORIES:Shabbat
ATTACH;FMTTYPE=image/jpeg:https://www.thecarlebachshul.org/wp-content/uploads/2019/01/Carlebach-HP.jpg
END:VEVENT
END:VCALENDAR