BEGIN:VCALENDAR
VERSION:2.0
PRODID:-//The Carlebach Shul - ECPv6.2.9//NONSGML v1.0//EN
CALSCALE:GREGORIAN
METHOD:PUBLISH
X-ORIGINAL-URL:https://www.thecarlebachshul.org
X-WR-CALDESC:Events for The Carlebach Shul
REFRESH-INTERVAL;VALUE=DURATION:PT1H
X-Robots-Tag:noindex
X-PUBLISHED-TTL:PT1H
BEGIN:VTIMEZONE
TZID:America/New_York
BEGIN:DAYLIGHT
TZOFFSETFROM:-0500
TZOFFSETTO:-0400
TZNAME:EDT
DTSTART:20250309T070000
END:DAYLIGHT
BEGIN:STANDARD
TZOFFSETFROM:-0400
TZOFFSETTO:-0500
TZNAME:EST
DTSTART:20251102T060000
END:STANDARD
END:VTIMEZONE
BEGIN:VEVENT
DTSTART;TZID=America/New_York:20250905T190300
DTEND;TZID=America/New_York:20250906T200100
DTSTAMP:20260420T213654
CREATED:20250617T201706Z
LAST-MODIFIED:20250904T223455Z
UID:10018552-1757098980-1757188860@www.thecarlebachshul.org
SUMMARY:Friday – Shabbat Schedule 09/05- 09/06
DESCRIPTION:Friday Night 09/05\nShabbat Candle Lighting: 7:03 pm\nMincha 7:03 PM\nKabbalat Shabbat\nDrasha: Shy Yellin \nSaturday Morning 09/06\nShabbat Parshat Ki Teitzei\nParsha Q&A Shiur: Rabbi Avi Dubin: 9:00 AM\nMorning Services: 9:30 AM\nSof Z’man Kriyat Shema: (Gr”a) 9:41 AM\nDrasha: Danny Goldschmidt\nMusaf\nKiddush following services\, sponsored by Danny Goldschmidt in honor of his 70th birthday\nPre-Mincha Shiur: Rabbi Avraham Newman: 5:55 PM\nMincha: 6:55 PM
URL:https://www.thecarlebachshul.org/event/friday-shabbat-schedule-09-05-09-06/
CATEGORIES:Shabbat
ATTACH;FMTTYPE=image/jpeg:https://www.thecarlebachshul.org/wp-content/uploads/2019/01/Carlebach-HP.jpg
END:VEVENT
BEGIN:VEVENT
DTSTART;TZID=America/New_York:20250912T185100
DTEND;TZID=America/New_York:20250913T194900
DTSTAMP:20260420T213654
CREATED:20250617T203829Z
LAST-MODIFIED:20250908T202200Z
UID:10018557-1757703060-1757792940@www.thecarlebachshul.org
SUMMARY:Friday – Shabbat Schedule 09/12- 09/13
DESCRIPTION:Friday Night 09/12\nShabbat Candle Lighting: 6:51 pm\nMincha 7:00 PM\nKabbalat Shabbat\nDrasha: Rabbi Naftali Citron \nSaturday Morning 09/13\nShabbat Parshat Ki Tavo\nParsha Q&A Shiur: 9:00 AM\nMorning Services: 9:30 AM\nSof Z’man Kriyat Shema: (Gr”a) 9:43 AM\nDrasha: Rabbi Naftali Citron\nMusaf\nKiddush following services\nPre-Mincha Shiur: Rabbi Naftali Citron: 5:45 PM\nMincha: 6:45 PM
URL:https://www.thecarlebachshul.org/event/friday-shabbat-schedule-09-12-09-13/
CATEGORIES:Shabbat
ATTACH;FMTTYPE=image/jpeg:https://www.thecarlebachshul.org/wp-content/uploads/2019/01/Carlebach-HP.jpg
END:VEVENT
BEGIN:VEVENT
DTSTART;TZID=America/New_York:20250912T190000
DTEND;TZID=America/New_York:20250912T224500
DTSTAMP:20260420T213654
CREATED:20250627T142951Z
LAST-MODIFIED:20250912T165650Z
UID:10018577-1757703600-1757717100@www.thecarlebachshul.org
SUMMARY:Welcome Back Shabbat - Friday Night dinner with Rabbi Naftali Citron & Rabbi Ephraim Buchwald
DESCRIPTION:Join us for a special “Welcome Back Shabbat” at the Carlebach Shul!\n7:00 PM Mincha\, followed by Kabbalat Shabbat Services & Ma’ariv; Cocktail Hour with Full Open Bar to follow \nMeet members and friends as we welcome back those who have been away for the summer.\nWe will be joined by Rabbi Ephraim Buchwald.\nReservations have closed for Shabbat dinner. We look forward to seeing those joing us there.
URL:https://www.thecarlebachshul.org/event/welcome-back-shabbat-friday-night-dinner-with-rabbi-naftali-citron-yehuda-green/
CATEGORIES:Shabbat
END:VEVENT
BEGIN:VEVENT
DTSTART;TZID=America/New_York:20250919T183900
DTEND;TZID=America/New_York:20250920T194300
DTSTAMP:20260420T213654
CREATED:20250617T204402Z
LAST-MODIFIED:20250918T165058Z
UID:10018558-1758307140-1758397380@www.thecarlebachshul.org
SUMMARY:Friday – Shabbat Schedule 09/19- 09/20
DESCRIPTION:Friday Night 09/19\nShabbat Candle Lighting: 6:39 pm\nMincha 6:45 PM\nKabbalat Shabbat:Yehuda Green\nDrasha: Rabbi Naftali Citron \nSaturday Morning 09/20\nShabbat Parshat Nitzavim\nParsha Q&A Shiur: 9:00 AM\nMorning Services: 9:30 AM\nSof Z’man Kriyat Shema: (Gr”a) 9:45 AM\nDrasha: Elisha Wiesel\nMusaf: Yehuda Green\nKiddush following services\, by Ellen and Mordy Lipkis and Tani and Soli Foger in honor of Ellen\, Soli\, Dr. Raphael Kellman and Barbara Chazan’s birthdays\nPre-Mincha Shiur: Rabbi Naftali Citron: 5:30 PM\nMincha: 6:30 PM
URL:https://www.thecarlebachshul.org/event/friday-shabbat-schedule-09-19-09-20/
CATEGORIES:Shabbat
ATTACH;FMTTYPE=image/jpeg:https://www.thecarlebachshul.org/wp-content/uploads/2019/01/Carlebach-HP.jpg
END:VEVENT
BEGIN:VEVENT
DTSTART;TZID=America/New_York:20250926T182700
DTEND;TZID=America/New_York:20250927T192500
DTSTAMP:20260420T213654
CREATED:20250618T133420Z
LAST-MODIFIED:20250926T165352Z
UID:10018560-1758911220-1759001100@www.thecarlebachshul.org
SUMMARY:Friday – Shabbat Schedule 09/26- 09/27
DESCRIPTION:Friday Night 09/26\nShabbat Candle Lighting: 6:27 PM\nMincha 6:35 PM\nKabbalat Shabbat: Yehuda Green\nDrasha: Rabbi Herschel Reichman \nShabbat dinner follows services\, with Rabbi Heshy Reichman – Click here to reserve \nYU Rosh Yeshiva Rabbi Heshy Reichman will be teaching Fri night upstairs at the Carlebach Shul at 9:45 PM\nTOPIC: Understanding the Brisker Derech Halimud. Based on the most extensive work on Rabbi Joseph B Soloveichik.\nAll are invited \nSaturday Morning 09/27\nShabbat Shuva\, Parshat Vayeilech\nParsha Q&A Shiur: No Shiur this Week\nMorning Services: 9:30 AM\nSof Z’man Kriyat Shema: (Gr”a) 9:47 AM\nMusaf: Yehuda Green\nKiddush: 12:30 PM\nShabbat Shuva Drasha: Rabbi Naftali Citron –  1:30 PM TOPIC: Ten Ways to Help Define Yourself\nPre-Mincha Shiur: Rabbi Naftali Citron: 5:30 PM\nMincha: 6:30 PM
URL:https://www.thecarlebachshul.org/event/friday-shabbat-schedule-09-26-09-27/
CATEGORIES:Shabbat
ATTACH;FMTTYPE=image/jpeg:https://www.thecarlebachshul.org/wp-content/uploads/2019/01/Carlebach-HP.jpg
END:VEVENT
BEGIN:VEVENT
DTSTART;TZID=America/New_York:20250926T183500
DTEND;TZID=America/New_York:20250926T224500
DTSTAMP:20260420T213654
CREATED:20250721T201444Z
LAST-MODIFIED:20250926T193048Z
UID:10019139-1758911700-1758926700@www.thecarlebachshul.org
SUMMARY:September 26th: Shabbat Shuva Dinner with Rabbi Naftali Citron & Rabbi Hershel Reichman
DESCRIPTION:YU Rosh Yeshiva Rabbi Hershel Reichman will be teaching this Friday night\, September 26th\, upstairs at the Carlebach Shul at 9:45 PM\nTOPIC: Understanding the Brisker Derech Halimud. Based on the most extensive work on Rabbi Joseph B Soloveichik.\nAll are invited to attend\n\nRabbi Hershel Reichman is one of the foremost expounders of the teachings of Rabbi Joseph B. Soloveitchik. Rabbi Reichman also teaches Chassidic thought\, with an emphasis on the teachings of the Shem Mishmuel.\nDinner reservations are now closed at this time.
URL:https://www.thecarlebachshul.org/event/shabbat-friday-night-dinner-september-26th-with-rabbi-naftali-citron-rabbi-hershel-reichman/
CATEGORIES:Shabbat
END:VEVENT
END:VCALENDAR