BEGIN:VCALENDAR
VERSION:2.0
PRODID:-//The Carlebach Shul - ECPv6.2.9//NONSGML v1.0//EN
CALSCALE:GREGORIAN
METHOD:PUBLISH
X-WR-CALNAME:The Carlebach Shul
X-ORIGINAL-URL:https://www.thecarlebachshul.org
X-WR-CALDESC:Events for The Carlebach Shul
REFRESH-INTERVAL;VALUE=DURATION:PT1H
X-Robots-Tag:noindex
X-PUBLISHED-TTL:PT1H
BEGIN:VTIMEZONE
TZID:America/New_York
BEGIN:DAYLIGHT
TZOFFSETFROM:-0500
TZOFFSETTO:-0400
TZNAME:EDT
DTSTART:20260308T070000
END:DAYLIGHT
BEGIN:STANDARD
TZOFFSETFROM:-0400
TZOFFSETTO:-0500
TZNAME:EST
DTSTART:20261101T060000
END:STANDARD
END:VTIMEZONE
BEGIN:VEVENT
DTSTART;TZID=America/New_York:20260102T162200
DTEND;TZID=America/New_York:20260103T172200
DTSTAMP:20260420T143940
CREATED:20251028T172932Z
LAST-MODIFIED:20260102T182342Z
UID:10020547-1767370920-1767460920@www.thecarlebachshul.org
SUMMARY:Friday – Shabbat Schedule 01/02- 01/03
DESCRIPTION:Friday Night 01/02\nShabbat Candle Lighting: 4:22 PM\nMincha 4:35 PM\nKabbalat Shabbat: Yehuda Green\nDrasha: Rabbi Ephraim Buchwald \nSaturday Morning 01/03\nShabbat Parshat Vayechi\nParsha Q&A Shiur: 9:00 AM\nMorning Services: 9:30 AM\nSof Z’man Kriyat Shema: (Gr”a) 9:40 AM\nDrasha: Soli Foger\nMusaf:Yehuda Green\nKiddush following services\nPre-Mincha Shiur: Dr. Raphael Kellman: 3:45 PM\nMincha: 4:15 PM
URL:https://www.thecarlebachshul.org/event/friday-shabbat-schedule-01-02-01-03/
CATEGORIES:Shabbat
ATTACH;FMTTYPE=image/jpeg:https://www.thecarlebachshul.org/wp-content/uploads/2019/01/Carlebach-HP.jpg
END:VEVENT
BEGIN:VEVENT
DTSTART;TZID=America/New_York:20260109T162800
DTEND;TZID=America/New_York:20260110T172800
DTSTAMP:20260420T143940
CREATED:20251028T173103Z
LAST-MODIFIED:20251028T174507Z
UID:10020548-1767976080-1768066080@www.thecarlebachshul.org
SUMMARY:Friday – Shabbat Schedule 01/09- 01/10
DESCRIPTION:Friday Night 01/09\nShabbat Candle Lighting: 4:28 PM\nMincha 4:40 PM\nKabbalat Shabbat\nDrasha: Rabbi Naftali Citron \nSaturday Morning 01/10\nShabbat Parshat Shemot\nParsha Q&A Shiur: 9:00 AM\nMorning Services: 9:30 AM\nSof Z’man Kriyat Shema: (Gr”a) 9:41 AM\nDrasha: Rabbi Naftali Citron\nMusaf\nKiddush following services\nPre-Mincha Shiur: Rabbi Naftali Citron: 3:50 PM\nMincha: 4:20 PM
URL:https://www.thecarlebachshul.org/event/friday-shabbat-schedule-01-09-01-10/
CATEGORIES:Shabbat
ATTACH;FMTTYPE=image/jpeg:https://www.thecarlebachshul.org/wp-content/uploads/2019/01/Carlebach-HP.jpg
END:VEVENT
BEGIN:VEVENT
DTSTART;TZID=America/New_York:20260116T163600
DTEND;TZID=America/New_York:20260117T173600
DTSTAMP:20260420T143940
CREATED:20251028T173327Z
LAST-MODIFIED:20260108T165158Z
UID:10020549-1768581360-1768671360@www.thecarlebachshul.org
SUMMARY:Friday – Shabbat Schedule 01/16- 01/17
DESCRIPTION:Friday Night 01/16\nShabbat Candle Lighting: 4:36 PM\nMincha 4:45 PM\nKabbalat Shabbat\nDrasha: Rabbi Naftali Citron \nSaturday Morning 01/17\nShabbat Mevorchim – Parshat Vaera\nParsha Q&A Shiur: 9:00 AM\nMorning Services: 9:30 AM\nSof Z’man Kriyat Shema: (Gr”a) 9:41 AM\nDrasha: Rabbi Naftali Citron\nMusaf\nKiddush following services\nPre-Mincha Shiur: Rabbi Naftali Citron: 4:00 PM\nMincha: 4:30 PM
URL:https://www.thecarlebachshul.org/event/friday-shabbat-schedule-01-16-01-17/
CATEGORIES:Shabbat
ATTACH;FMTTYPE=image/jpeg:https://www.thecarlebachshul.org/wp-content/uploads/2019/01/Carlebach-HP.jpg
END:VEVENT
BEGIN:VEVENT
DTSTART;TZID=America/New_York:20260123T164400
DTEND;TZID=America/New_York:20260124T174400
DTSTAMP:20260420T143940
CREATED:20251028T173500Z
LAST-MODIFIED:20260123T164226Z
UID:10020550-1769186640-1769276640@www.thecarlebachshul.org
SUMMARY:Friday – Shabbat Schedule 01/23- 01/24
DESCRIPTION:Friday Night 01/23\nShabbat Candle Lighting: 4:44 PM\nMincha 4:55 PM\nKabbalat Shabbat: Yehuda Green\nDrasha: Zevi Slavin \nSaturday Morning 01/24\nShabbat Parshat Bo\nParsha Q&A Shiur: 9:00 AM\nMorning Services: 9:30 AM\nSof Z’man Kriyat Shema: (Gr”a) 9:40 AM\nDrasha: Elisha Wiesel\nMusaf: Yehuda Green\nKiddush following services:\nSponsored by Lynn and Elisha Wiesel in memory of Elisha’s mother\, Marion Wiesel\nSpecial Lecture Zevi Slavin: 3:35 PM\nMincha: 4:35 PM \nSpecial thanks to the Wiesel family for sponsoring this Shabbos in memory of Marion Wiesel on the occasion of her first Yahrzeit\n\nThank you to Sara Winter who is sponsoring the security costs this Shabbos in memory of her father
URL:https://www.thecarlebachshul.org/event/friday-shabbat-schedule-01-23-01-24/
CATEGORIES:Shabbat
ATTACH;FMTTYPE=image/jpeg:https://www.thecarlebachshul.org/wp-content/uploads/2019/01/Carlebach-HP.jpg
END:VEVENT
BEGIN:VEVENT
DTSTART;TZID=America/New_York:20260130T165300
DTEND;TZID=America/New_York:20260131T175300
DTSTAMP:20260420T143940
CREATED:20251028T173708Z
LAST-MODIFIED:20260129T184358Z
UID:10020551-1769791980-1769881980@www.thecarlebachshul.org
SUMMARY:Friday – Shabbat Schedule 01/30- 01/31
DESCRIPTION:Friday Night 01/30\nShabbat Candle Lighting: 4:53 PM\nMincha 5:05 PM\nKabbalat Shabbat\nDrasha: Rabbi Naftali Citron \nSaturday Morning 01/31\nShabbat Shira\, Parshat Beshalach\nParsha Q&A Shiur: 9:00 AM\nMorning Services: 9:30 AM\nSof Z’man Kriyat Shema: (Gr”a) 9:38 AM\nDrasha: Rabbi Naftali Citron\nMusaf\nKiddush following services:  Sponsored by Tani and Soli Foger\, in memory of Tani’s mother – Doris Schneider\nPre-Mincha Shiur: Rabbi Naftali Citron: 4:15 PM\nMincha: 4:45 PM
URL:https://www.thecarlebachshul.org/event/friday-shabbat-schedule-01-30-01-31/
CATEGORIES:Shabbat
ATTACH;FMTTYPE=image/jpeg:https://www.thecarlebachshul.org/wp-content/uploads/2019/01/Carlebach-HP.jpg
END:VEVENT
END:VCALENDAR