BEGIN:VCALENDAR
VERSION:2.0
PRODID:-//The Carlebach Shul - ECPv6.2.9//NONSGML v1.0//EN
CALSCALE:GREGORIAN
METHOD:PUBLISH
X-ORIGINAL-URL:https://www.thecarlebachshul.org
X-WR-CALDESC:Events for The Carlebach Shul
REFRESH-INTERVAL;VALUE=DURATION:PT1H
X-Robots-Tag:noindex
X-PUBLISHED-TTL:PT1H
BEGIN:VTIMEZONE
TZID:America/New_York
BEGIN:DAYLIGHT
TZOFFSETFROM:-0500
TZOFFSETTO:-0400
TZNAME:EDT
DTSTART:20260308T070000
END:DAYLIGHT
BEGIN:STANDARD
TZOFFSETFROM:-0400
TZOFFSETTO:-0500
TZNAME:EST
DTSTART:20261101T060000
END:STANDARD
END:VTIMEZONE
BEGIN:VEVENT
DTSTART;TZID=America/New_York:20260703T201200
DTEND;TZID=America/New_York:20260704T211200
DTSTAMP:20260420T144758
CREATED:20260317T170219Z
LAST-MODIFIED:20260317T170219Z
UID:10021351-1783109520-1783199520@www.thecarlebachshul.org
SUMMARY:Friday – Shabbat Schedule 07/03-07/04
DESCRIPTION:Friday Night 07/03\nShabbat Candle Lighting: 8:12 PM\nMincha: 8:12 PM\nKabbalat Shabbat\nDrasha: Rabbi Naftali Citron \nSaturday Morning 07/04\nShabbat Parshat Pinchas\nParsha Q&A Shiur: 9:00 AM\nMorning Services: 9:30 AM\nSof Z’man Kriyat Shema: (Gr”a) 9:15 AM\nDrasha: Rabbi Naftali Citron\nMusaf\nKiddush following services\nPre-Mincha Shiur: Rabbi Naftali Citron: 7:05 PM\nMincha: 8:05 PM
URL:https://www.thecarlebachshul.org/event/friday-shabbat-schedule-07-03-07-04/
CATEGORIES:Shabbat
ATTACH;FMTTYPE=image/jpeg:https://www.thecarlebachshul.org/wp-content/uploads/2019/01/Carlebach-HP.jpg
END:VEVENT
BEGIN:VEVENT
DTSTART;TZID=America/New_York:20260710T201000
DTEND;TZID=America/New_York:20260711T211000
DTSTAMP:20260420T144758
CREATED:20260317T170506Z
LAST-MODIFIED:20260317T170506Z
UID:10021352-1783714200-1783804200@www.thecarlebachshul.org
SUMMARY:Friday – Shabbat Schedule 07/10-07/11
DESCRIPTION:Friday Night 07/10\nShabbat Candle Lighting: 8:10 PM\nMincha: 8:10 PM\nKabbalat Shabbat\nDrasha: Rabbi Naftali Citron \nSaturday Morning 07/11\nShabbat Mevorchim\nShabbat Parshat Matot-Masei\nParsha Q&A Shiur: 9:00 AM\nMorning Services: 9:30 AM\nSof Z’man Kriyat Shema: (Gr”a) 9:17 AM\nDrasha: Rabbi Naftali Citron\nMusaf\nKiddush following services\nPre-Mincha Shiur: Rabbi Naftali Citron: 7:00 PM\nMincha: 8:00 PM
URL:https://www.thecarlebachshul.org/event/friday-shabbat-schedule-07-10-07-11/
CATEGORIES:Shabbat
ATTACH;FMTTYPE=image/jpeg:https://www.thecarlebachshul.org/wp-content/uploads/2019/01/Carlebach-HP.jpg
END:VEVENT
BEGIN:VEVENT
DTSTART;TZID=America/New_York:20260717T200600
DTEND;TZID=America/New_York:20260718T210600
DTSTAMP:20260420T144758
CREATED:20260317T170819Z
LAST-MODIFIED:20260317T170819Z
UID:10021353-1784318760-1784408760@www.thecarlebachshul.org
SUMMARY:Friday – Shabbat Schedule 07/17-07/18
DESCRIPTION:Friday Night 07/17\nShabbat Candle Lighting: 8:06 PM\nMincha: 8:06 PM\nKabbalat Shabbat\nDrasha: Rabbi Naftali Citron \nSaturday Morning 07/18\nShabbat Parshat Devarim \nParsha Q&A Shiur: 9:00 AM\nMorning Services: 9:30 AM\nSof Z’man Kriyat Shema: (Gr”a) 9:20 AM\nDrasha: Rabbi Naftali Citron\nMusaf\nKiddush following services\nPre-Mincha Shiur: Rabbi Naftali Citron: 7:00 PM\nMincha: 8:00 PM
URL:https://www.thecarlebachshul.org/event/friday-shabbat-schedule-07-17-07-18/
CATEGORIES:Shabbat
ATTACH;FMTTYPE=image/jpeg:https://www.thecarlebachshul.org/wp-content/uploads/2019/01/Carlebach-HP.jpg
END:VEVENT
BEGIN:VEVENT
DTSTART;TZID=America/New_York:20260724T200100
DTEND;TZID=America/New_York:20260725T210100
DTSTAMP:20260420T144758
CREATED:20260317T171035Z
LAST-MODIFIED:20260317T171035Z
UID:10021354-1784923260-1785013260@www.thecarlebachshul.org
SUMMARY:Friday – Shabbat Schedule 07/24-07/25
DESCRIPTION:Friday Night 07/24\nShabbat Candle Lighting: 8:01 PM\nMincha: 8:01 PM\nKabbalat Shabbat\nDrasha: Rabbi Naftali Citron \nSaturday Morning 07/25\nShabbat Parshat Vaetchanan\nParsha Q&A Shiur: 9:00 AM\nMorning Services: 9:30 AM\nSof Z’man Kriyat Shema: (Gr”a) 9:24 AM\nDrasha: Rabbi Naftali Citron\nMusaf\nKiddush following services\nPre-Mincha Shiur: Rabbi Naftali Citron: 6:55 PM\nMincha: 7:55 PM
URL:https://www.thecarlebachshul.org/event/friday-shabbat-schedule-07-24-07-25/
CATEGORIES:Shabbat
ATTACH;FMTTYPE=image/jpeg:https://www.thecarlebachshul.org/wp-content/uploads/2019/01/Carlebach-HP.jpg
END:VEVENT
BEGIN:VEVENT
DTSTART;TZID=America/New_York:20260731T195400
DTEND;TZID=America/New_York:20260801T205400
DTSTAMP:20260420T144758
CREATED:20260317T175919Z
LAST-MODIFIED:20260317T175919Z
UID:10021355-1785527640-1785617640@www.thecarlebachshul.org
SUMMARY:Friday – Shabbat Schedule 07/31-08/01
DESCRIPTION:Friday Night 07/31\nShabbat Candle Lighting: 7:54 PM\nMincha: 7:54 PM\nKabbalat Shabbat\nDrasha: Rabbi Naftali Citron \nSaturday Morning 08/01\nShabbat Parshat Eikev\nParsha Q&A Shiur: 9:00 AM\nMorning Services: 9:30 AM\nSof Z’man Kriyat Shema: (Gr”a) 9:27 AM\nDrasha: Rabbi Naftali Citron\nMusaf\nKiddush following services\nPre-Mincha Shiur: Rabbi Naftali Citron: 6:45 PM\nMincha: 7:45 PM
URL:https://www.thecarlebachshul.org/event/friday-shabbat-schedule-07-31-08-01/
CATEGORIES:Shabbat
ATTACH;FMTTYPE=image/jpeg:https://www.thecarlebachshul.org/wp-content/uploads/2019/01/Carlebach-HP.jpg
END:VEVENT
END:VCALENDAR