BEGIN:VCALENDAR
VERSION:2.0
PRODID:-//The Carlebach Shul - ECPv6.2.9//NONSGML v1.0//EN
CALSCALE:GREGORIAN
METHOD:PUBLISH
X-ORIGINAL-URL:https://www.thecarlebachshul.org
X-WR-CALDESC:Events for The Carlebach Shul
REFRESH-INTERVAL;VALUE=DURATION:PT1H
X-Robots-Tag:noindex
X-PUBLISHED-TTL:PT1H
BEGIN:VTIMEZONE
TZID:America/New_York
BEGIN:DAYLIGHT
TZOFFSETFROM:-0500
TZOFFSETTO:-0400
TZNAME:EDT
DTSTART:20240310T070000
END:DAYLIGHT
BEGIN:STANDARD
TZOFFSETFROM:-0400
TZOFFSETTO:-0500
TZNAME:EST
DTSTART:20241103T060000
END:STANDARD
END:VTIMEZONE
BEGIN:VEVENT
DTSTART;TZID=America/New_York:20240322T185200
DTEND;TZID=America/New_York:20240323T195300
DTSTAMP:20260421T190451
CREATED:20240219T160259Z
LAST-MODIFIED:20240322T152828Z
UID:10007868-1711133520-1711223580@www.thecarlebachshul.org
SUMMARY:Friday – Shabbat Schedule 3/22 - 3/23
DESCRIPTION:Friday Night 3/22\nShabbat Candle Lighting: 6:52 PM\nMincha 7:00 PM\nKabbalat Shabbat: Yehuda Green\nDrasha: Rabbi Naftali Citron \nSaturday Morning 3/23\nShabbat Parshat Vayikra + Zachor\nMorning Services: 9:30 AM\nSof Z’man Kriyat Shema: (Gr”a) 9:58 AM\nDrasha: Rabbi Naftali Citron\nMusaf: Yehuda Green\nKiddush following services\nMincha: 1:45 PM
URL:https://www.thecarlebachshul.org/event/friday-shabbat-schedule-3-22-3-23-2/
CATEGORIES:Shabbat
ATTACH;FMTTYPE=image/jpeg:https://www.thecarlebachshul.org/wp-content/uploads/2019/01/Carlebach-HP.jpg
END:VEVENT
END:VCALENDAR