BEGIN:VCALENDAR
VERSION:2.0
PRODID:-//The Carlebach Shul - ECPv6.2.9//NONSGML v1.0//EN
CALSCALE:GREGORIAN
METHOD:PUBLISH
X-WR-CALNAME:The Carlebach Shul
X-ORIGINAL-URL:https://www.thecarlebachshul.org
X-WR-CALDESC:Events for The Carlebach Shul
REFRESH-INTERVAL;VALUE=DURATION:PT1H
X-Robots-Tag:noindex
X-PUBLISHED-TTL:PT1H
BEGIN:VTIMEZONE
TZID:America/New_York
BEGIN:DAYLIGHT
TZOFFSETFROM:-0500
TZOFFSETTO:-0400
TZNAME:EDT
DTSTART:20240310T070000
END:DAYLIGHT
BEGIN:STANDARD
TZOFFSETFROM:-0400
TZOFFSETTO:-0500
TZNAME:EST
DTSTART:20241103T060000
END:STANDARD
END:VTIMEZONE
BEGIN:VEVENT
DTSTART;TZID=America/New_York:20240329T190000
DTEND;TZID=America/New_York:20240330T200100
DTSTAMP:20260421T190232
CREATED:20240219T160518Z
LAST-MODIFIED:20240329T143404Z
UID:10007869-1711738800-1711828860@www.thecarlebachshul.org
SUMMARY:Friday – Shabbat Schedule 3/29 - 3/30
DESCRIPTION:Friday Night 3/29\nShabbat Candle Lighting: 7:00 PM\nMincha 7:00 PM\nKabbalat Shabbat: Eli Cohn\nDrasha: Shy Yellin \nSaturday Morning 3/30\nShabbat Parshat Tzav – Parah\nMorning Services: 9:30 AM\nSof Z’man Kriyat Shema: (Gr”a) 9:51 AM\nDrasha: Raphael Kellman\nMusaf: Eli Cohn\nKiddush following services\nPre-Mincha Shiur: Zev Teifer – 5:50 PM\nMincha: 6:50 PM
URL:https://www.thecarlebachshul.org/event/friday-shabbat-schedule-3-29-3-30-2/
CATEGORIES:Shabbat
ATTACH;FMTTYPE=image/jpeg:https://www.thecarlebachshul.org/wp-content/uploads/2019/01/Carlebach-HP.jpg
END:VEVENT
END:VCALENDAR