BEGIN:VCALENDAR
VERSION:2.0
PRODID:-//The Carlebach Shul - ECPv6.2.9//NONSGML v1.0//EN
CALSCALE:GREGORIAN
METHOD:PUBLISH
X-ORIGINAL-URL:https://www.thecarlebachshul.org
X-WR-CALDESC:Events for The Carlebach Shul
REFRESH-INTERVAL;VALUE=DURATION:PT1H
X-Robots-Tag:noindex
X-PUBLISHED-TTL:PT1H
BEGIN:VTIMEZONE
TZID:America/New_York
BEGIN:DAYLIGHT
TZOFFSETFROM:-0500
TZOFFSETTO:-0400
TZNAME:EDT
DTSTART:20240310T070000
END:DAYLIGHT
BEGIN:STANDARD
TZOFFSETFROM:-0400
TZOFFSETTO:-0500
TZNAME:EST
DTSTART:20241103T060000
END:STANDARD
END:VTIMEZONE
BEGIN:VEVENT
DTSTART;TZID=America/New_York:20240802T195200
DTEND;TZID=America/New_York:20240803T205400
DTSTAMP:20260421T215602
CREATED:20240409T204531Z
LAST-MODIFIED:20240802T135750Z
UID:10010137-1722628320-1722718440@www.thecarlebachshul.org
SUMMARY:Friday – Shabbat Schedule 8/2 - 8/3
DESCRIPTION:Friday Night 8/2\nShabbat Candle Lighting: 7:52 PM\nMincha 7:50 PM\nKabbalat Shabbat: Eli Cohn\nDrasha: Shy Yellin \nSaturday Morning 8/3\nShabbat Matot-Maasei\nParsha Q&A with Rabbi Betzallel Edwards: 9:00 AM\nMorning Services: 9:30 AM\nSof Z’man Kriyat Shema: (Gr”a) 9:26 AM\nDrasha: Rabbi Betzallel Edwards\nMusaf: Eli Cohn\nKiddush following services\nPre-Mincha Shiur: 6:45 PM at the Shul: Rabbi Betzallel Edwards: Prayer and Healing in the way of the Baal Shem Tov\nMincha: 7:45 PM
URL:https://www.thecarlebachshul.org/event/friday-shabbat-schedule-8-2-8-3-2/
CATEGORIES:Shabbat
ATTACH;FMTTYPE=image/jpeg:https://www.thecarlebachshul.org/wp-content/uploads/2019/01/Carlebach-HP.jpg
END:VEVENT
END:VCALENDAR