BEGIN:VCALENDAR
VERSION:2.0
PRODID:-//The Carlebach Shul - ECPv6.2.9//NONSGML v1.0//EN
CALSCALE:GREGORIAN
METHOD:PUBLISH
X-WR-CALNAME:The Carlebach Shul
X-ORIGINAL-URL:https://www.thecarlebachshul.org
X-WR-CALDESC:Events for The Carlebach Shul
REFRESH-INTERVAL;VALUE=DURATION:PT1H
X-Robots-Tag:noindex
X-PUBLISHED-TTL:PT1H
BEGIN:VTIMEZONE
TZID:America/New_York
BEGIN:DAYLIGHT
TZOFFSETFROM:-0500
TZOFFSETTO:-0400
TZNAME:EDT
DTSTART:20240310T070000
END:DAYLIGHT
BEGIN:STANDARD
TZOFFSETFROM:-0400
TZOFFSETTO:-0500
TZNAME:EST
DTSTART:20241103T060000
END:STANDARD
END:VTIMEZONE
BEGIN:VEVENT
DTSTART;TZID=America/New_York:20240816T193400
DTEND;TZID=America/New_York:20240817T203400
DTSTAMP:20260421T215250
CREATED:20240409T205014Z
LAST-MODIFIED:20240812T030449Z
UID:10010139-1723836840-1723926840@www.thecarlebachshul.org
SUMMARY:Friday – Shabbat Schedule 8/16 - 8/17
DESCRIPTION:Friday Night 8/16\nShabbat Candle Lighting: 7:34 PM\nMincha 7:35 PM\nKabbalat Shabbat:\nDrasha: Rabbi Naftali Citron \nSaturday Morning 8/17\nShabbat Nachamu – Parshat Vaetchanan\nMorning Services: 9:30 AM\nSof Z’man Kriyat Shema: (Gr”a) 9:31 AM\nDrasha: Rabbi Naftali Citron\nMusaf:\nKiddush following services\nPre-Mincha Shiur: Rabbi Naftali Citron: 6:25 PM at the Shul\nMincha: 7:25 PM
URL:https://www.thecarlebachshul.org/event/friday-shabbat-schedule-8-16-8-17-2/
CATEGORIES:Shabbat
ATTACH;FMTTYPE=image/jpeg:https://www.thecarlebachshul.org/wp-content/uploads/2019/01/Carlebach-HP.jpg
END:VEVENT
END:VCALENDAR