BEGIN:VCALENDAR
VERSION:2.0
PRODID:-//The Carlebach Shul - ECPv6.2.9//NONSGML v1.0//EN
CALSCALE:GREGORIAN
METHOD:PUBLISH
X-ORIGINAL-URL:https://www.thecarlebachshul.org
X-WR-CALDESC:Events for The Carlebach Shul
REFRESH-INTERVAL;VALUE=DURATION:PT1H
X-Robots-Tag:noindex
X-PUBLISHED-TTL:PT1H
BEGIN:VTIMEZONE
TZID:America/New_York
BEGIN:DAYLIGHT
TZOFFSETFROM:-0500
TZOFFSETTO:-0400
TZNAME:EDT
DTSTART:20240310T070000
END:DAYLIGHT
BEGIN:STANDARD
TZOFFSETFROM:-0400
TZOFFSETTO:-0500
TZNAME:EST
DTSTART:20241103T060000
END:STANDARD
END:VTIMEZONE
BEGIN:VEVENT
DTSTART;TZID=America/New_York:20240920T183700
DTEND;TZID=America/New_York:20240921T193400
DTSTAMP:20260421T201311
CREATED:20240820T190047Z
LAST-MODIFIED:20240920T165636Z
UID:10010351-1726857420-1726947240@www.thecarlebachshul.org
SUMMARY:Friday – Shabbat Schedule 9/20 - 9/21
DESCRIPTION:Friday Night 9/20\nShabbat Candle Lighting: 6:37 PM\nMincha 6:45 PM\nKabbalat Shabbat: Yaakov Blum\nDrasha: Rabbi Naftali Citron \nSaturday Morning 9/21\nShabbat Ki Tavo\n \nParsha Q&A Shiur: 9:00 AM –\nSponsored anonymously for a complete and immediate Refuah Shelema for Hadassah Chaviva bat Haya Faiga \nMorning Services: 9:30 AM\nSof Z’man Kriyat Shema: (Gr”a) 9:43 AM\nDrasha: Rabbi Naftali Citron\nMusaf:\nKiddush following services\nPre-Mincha Shiur: Rabbi Naftali Citron: 5:30 PM at the Shul\nTeachings of the Baal Shem Tov & The Alter Rebbe of Chabad on the occasion of their birthdays\, Chai Elul\n \nSponsored anonymously In memory of Elyakem Aleksander ben Avraham. May he continue to live forever in our hearts. We miss you profoundly \nMincha: 6:30 PM
URL:https://www.thecarlebachshul.org/event/friday-shabbat-schedule-9-20-9-21-2/
CATEGORIES:Shabbat
ATTACH;FMTTYPE=image/jpeg:https://www.thecarlebachshul.org/wp-content/uploads/2019/01/Carlebach-HP.jpg
END:VEVENT
END:VCALENDAR