BEGIN:VCALENDAR
VERSION:2.0
PRODID:-//The Carlebach Shul - ECPv6.2.9//NONSGML v1.0//EN
CALSCALE:GREGORIAN
METHOD:PUBLISH
X-WR-CALNAME:The Carlebach Shul
X-ORIGINAL-URL:https://www.thecarlebachshul.org
X-WR-CALDESC:Events for The Carlebach Shul
REFRESH-INTERVAL;VALUE=DURATION:PT1H
X-Robots-Tag:noindex
X-PUBLISHED-TTL:PT1H
BEGIN:VTIMEZONE
TZID:America/New_York
BEGIN:DAYLIGHT
TZOFFSETFROM:-0500
TZOFFSETTO:-0400
TZNAME:EDT
DTSTART:20250309T070000
END:DAYLIGHT
BEGIN:STANDARD
TZOFFSETFROM:-0400
TZOFFSETTO:-0500
TZNAME:EST
DTSTART:20251102T060000
END:STANDARD
END:VTIMEZONE
BEGIN:VEVENT
DTSTART;TZID=America/New_York:20250321T185100
DTEND;TZID=America/New_York:20250322T195100
DTSTAMP:20260421T115612
CREATED:20241210T190010Z
LAST-MODIFIED:20250310T152434Z
UID:10010449-1742583060-1742673060@www.thecarlebachshul.org
SUMMARY:Friday – Shabbat Schedule 03/21 - 03/22
DESCRIPTION:Friday Night 03/21\nShabbat Candle Lighting: 6:51 PM\nMincha 7:05 PM\nKabbalat Shabbat\nDrasha: Rabbi Naftali Citron \nDinner follows services\, led by Rabbi Naftali Citron & Rabbi Herschel Reichman. Click here to reserve \nSaturday Morning 03/22\nShabbat Parshat Vayakhel\nParsha Q&A Shiur: 9:00 AM\nMorning Services: 9:30 AM\nSof Z’man Kriyat Shema: (Gr”a) 9:59 AM\nDrasha: Rabbi Herschel Reichman\nMusaf\nKiddush following services\nPre-Mincha Shiur: Rabbi Herschel Reichman: 5:45 PM\nMincha: 6:45 PM
URL:https://www.thecarlebachshul.org/event/friday-shabbat-schedule-03-21-03-22/
CATEGORIES:Shabbat
ATTACH;FMTTYPE=image/jpeg:https://www.thecarlebachshul.org/wp-content/uploads/2019/01/Carlebach-HP.jpg
END:VEVENT
END:VCALENDAR