BEGIN:VCALENDAR
VERSION:2.0
PRODID:-//The Carlebach Shul - ECPv6.2.9//NONSGML v1.0//EN
CALSCALE:GREGORIAN
METHOD:PUBLISH
X-WR-CALNAME:The Carlebach Shul
X-ORIGINAL-URL:https://www.thecarlebachshul.org
X-WR-CALDESC:Events for The Carlebach Shul
REFRESH-INTERVAL;VALUE=DURATION:PT1H
X-Robots-Tag:noindex
X-PUBLISHED-TTL:PT1H
BEGIN:VTIMEZONE
TZID:America/New_York
BEGIN:DAYLIGHT
TZOFFSETFROM:-0500
TZOFFSETTO:-0400
TZNAME:EDT
DTSTART:20250309T070000
END:DAYLIGHT
BEGIN:STANDARD
TZOFFSETFROM:-0400
TZOFFSETTO:-0500
TZNAME:EST
DTSTART:20251102T060000
END:STANDARD
END:VTIMEZONE
BEGIN:VEVENT
DTSTART;TZID=America/New_York:20250718T200500
DTEND;TZID=America/New_York:20250719T211200
DTSTAMP:20260421T030625
CREATED:20250210T210836Z
LAST-MODIFIED:20250718T174912Z
UID:10010485-1752869100-1752959520@www.thecarlebachshul.org
SUMMARY:Friday – Shabbat Schedule 07/18- 07/19
DESCRIPTION:The below times apply only to services at the Carlebach Shul. For our Long Beach Shabbaton Schedule\, please click here. \nFriday Night 07/18\nShabbat Candle Lighting: 8:05 PM\nMincha 8:05 PM\nKabbalat Shabbat\nDrasha: Rabbi Naftali Citron \nSaturday Morning 07/19\nShabbat Parshat Pinchas\nParsha Q&A Shiur: 9:00 AM – Rabbi Naftali Citron\nMorning Services: 9:30 AM\nSof Z’man Kriyat Shema: (Gr”a) 9:21 AM\nDrasha: Rabbi Naftali Citron\nMusaf\nKiddush following services\nPre-Mincha Shiur: 7:00 PM – Rabbi Naftal Citron\nZohar and Maimonides: A comparison of the Zohar to the Rambam’s Mishnah Torah\nMincha: 8:00 PM
URL:https://www.thecarlebachshul.org/event/friday-shabbat-schedule-07-18-07-19/
CATEGORIES:Shabbat
ATTACH;FMTTYPE=image/jpeg:https://www.thecarlebachshul.org/wp-content/uploads/2019/01/Carlebach-HP.jpg
END:VEVENT
END:VCALENDAR