BEGIN:VCALENDAR
VERSION:2.0
PRODID:-//The Carlebach Shul - ECPv6.2.9//NONSGML v1.0//EN
CALSCALE:GREGORIAN
METHOD:PUBLISH
X-ORIGINAL-URL:https://www.thecarlebachshul.org
X-WR-CALDESC:Events for The Carlebach Shul
REFRESH-INTERVAL;VALUE=DURATION:PT1H
X-Robots-Tag:noindex
X-PUBLISHED-TTL:PT1H
BEGIN:VTIMEZONE
TZID:America/New_York
BEGIN:DAYLIGHT
TZOFFSETFROM:-0500
TZOFFSETTO:-0400
TZNAME:EDT
DTSTART:20250309T070000
END:DAYLIGHT
BEGIN:STANDARD
TZOFFSETFROM:-0400
TZOFFSETTO:-0500
TZNAME:EST
DTSTART:20251102T060000
END:STANDARD
END:VTIMEZONE
BEGIN:VEVENT
DTSTART;TZID=America/New_York:20251128T161100
DTEND;TZID=America/New_York:20251129T171500
DTSTAMP:20260420T195941
CREATED:20250825T181624Z
LAST-MODIFIED:20251126T175126Z
UID:10019177-1764346260-1764436500@www.thecarlebachshul.org
SUMMARY:Friday – Shabbat Schedule 11/28 - 11/29
DESCRIPTION:Friday Night 11/28\nShabbat Candle Lighting: 4:11 PM\nMincha 4:25 PM\nKabbalat Shabbat: Yehuda Green\nDrasha \nSaturday Morning 11/29\nShabbat Parshat Vayetze\nParsha Q&A Shiur: 9:00 AM – Rabbi Avi Dubin\nMorning Services: 9:30 AM\nSof Z’man Kriyat Shema: (Gr”a) 9:21 AM\nDrasha: Dr. Lee Slavutin\nMusaf: Yehuda Green\nKiddush following services\, sponsored by Joanne Krupp In memory of her father Avraham Peretz ben Yosef\nPre-Mincha Shiur: 3:35 PM\nDr. Raphael Kellman\nMincha: 4:05 PM
URL:https://www.thecarlebachshul.org/event/friday-shabbat-schedule-11-28-11-29/
CATEGORIES:Shabbat
ATTACH;FMTTYPE=image/jpeg:https://www.thecarlebachshul.org/wp-content/uploads/2019/01/Carlebach-HP.jpg
END:VEVENT
END:VCALENDAR