BEGIN:VCALENDAR
VERSION:2.0
PRODID:-//The Carlebach Shul - ECPv6.2.9//NONSGML v1.0//EN
CALSCALE:GREGORIAN
METHOD:PUBLISH
X-WR-CALNAME:The Carlebach Shul
X-ORIGINAL-URL:https://www.thecarlebachshul.org
X-WR-CALDESC:Events for The Carlebach Shul
REFRESH-INTERVAL;VALUE=DURATION:PT1H
X-Robots-Tag:noindex
X-PUBLISHED-TTL:PT1H
BEGIN:VTIMEZONE
TZID:America/New_York
BEGIN:DAYLIGHT
TZOFFSETFROM:-0500
TZOFFSETTO:-0400
TZNAME:EDT
DTSTART:20260308T070000
END:DAYLIGHT
BEGIN:STANDARD
TZOFFSETFROM:-0400
TZOFFSETTO:-0500
TZNAME:EST
DTSTART:20261101T060000
END:STANDARD
END:VTIMEZONE
BEGIN:VEVENT
DTSTART;TZID=America/New_York:20260424T192600
DTEND;TZID=America/New_York:20260425T202600
DTSTAMP:20260420T111659
CREATED:20260305T170030Z
LAST-MODIFIED:20260419T204826Z
UID:10021249-1777058760-1777148760@www.thecarlebachshul.org
SUMMARY:Friday – Shabbat Schedule 04/24-04/25
DESCRIPTION:Friday Night 04/24\nShabbat Candle Lighting: 7:26 PM\nMincha: 7:26 PM\nKabbalat Shabbat: led by Yehuda Green\nDrasha: Rabbi Naftali Citron \nSaturday Morning 04/25\nShabbat Parshat Acharei-Mot/Kedoshim\nParsha Q&A Shiur: 9:00 AM\nMorning Services: 9:30 AM\nSof Z’man Kriyat Shema: (Gr”a) 9:28 AM\nDrasha: Rabbi Naftali Citron\nMusaf: Yehuda Green\nKiddush following services\nPre-Mincha Shiur: Rabbi Naftali Citron: 6:20 PM\nMincha: 7:20 PM
URL:https://www.thecarlebachshul.org/event/friday-shabbat-schedule-04-24-04-25/
CATEGORIES:Shabbat
ATTACH;FMTTYPE=image/jpeg:https://www.thecarlebachshul.org/wp-content/uploads/2019/01/Carlebach-HP.jpg
END:VEVENT
END:VCALENDAR