BEGIN:VCALENDAR
VERSION:2.0
PRODID:-//The Carlebach Shul - ECPv6.2.9//NONSGML v1.0//EN
CALSCALE:GREGORIAN
METHOD:PUBLISH
X-WR-CALNAME:The Carlebach Shul
X-ORIGINAL-URL:https://www.thecarlebachshul.org
X-WR-CALDESC:Events for The Carlebach Shul
REFRESH-INTERVAL;VALUE=DURATION:PT1H
X-Robots-Tag:noindex
X-PUBLISHED-TTL:PT1H
BEGIN:VTIMEZONE
TZID:America/New_York
BEGIN:DAYLIGHT
TZOFFSETFROM:-0500
TZOFFSETTO:-0400
TZNAME:EDT
DTSTART:20260308T070000
END:DAYLIGHT
BEGIN:STANDARD
TZOFFSETFROM:-0400
TZOFFSETTO:-0500
TZNAME:EST
DTSTART:20261101T060000
END:STANDARD
END:VTIMEZONE
BEGIN:VEVENT
DTSTART;TZID=America/New_York:20260529T200000
DTEND;TZID=America/New_York:20260530T210000
DTSTAMP:20260420T131410
CREATED:20260305T173528Z
LAST-MODIFIED:20260305T174852Z
UID:10021340-1780084800-1780174800@www.thecarlebachshul.org
SUMMARY:Friday – Shabbat Schedule 05/29- 05/30
DESCRIPTION:Friday Night 05/29\nShabbat Candle Lighting: 8:00 PM\nMincha: 8:00 PM\nKabbalat Shabbat\nDrasha: Rabbi Naftali Citron \nSaturday Morning 05/30\nShabbat Parshat Naso\nParsha Q&A Shiur: 9:00 AM\nMorning Services: 9:30 AM\nSof Z’man Kriyat Shema: (Gr”a) 9:10 AM\nDrasha: Rabbi Naftali Citron\nMusaf\nKiddush following services\nPre-Mincha Shiur: Rabbi Naftali Citron: 6:50 PM\nMincha: 7:50 PM
URL:https://www.thecarlebachshul.org/event/friday-shabbat-schedule-05-29-05-30/
CATEGORIES:Shabbat
ATTACH;FMTTYPE=image/jpeg:https://www.thecarlebachshul.org/wp-content/uploads/2019/01/Carlebach-HP.jpg
END:VEVENT
END:VCALENDAR