BEGIN:VCALENDAR
VERSION:2.0
PRODID:-//The Carlebach Shul - ECPv6.2.9//NONSGML v1.0//EN
CALSCALE:GREGORIAN
METHOD:PUBLISH
X-WR-CALNAME:The Carlebach Shul
X-ORIGINAL-URL:https://www.thecarlebachshul.org
X-WR-CALDESC:Events for The Carlebach Shul
REFRESH-INTERVAL;VALUE=DURATION:PT1H
X-Robots-Tag:noindex
X-PUBLISHED-TTL:PT1H
BEGIN:VTIMEZONE
TZID:America/New_York
BEGIN:DAYLIGHT
TZOFFSETFROM:-0500
TZOFFSETTO:-0400
TZNAME:EDT
DTSTART:20250309T070000
END:DAYLIGHT
BEGIN:STANDARD
TZOFFSETFROM:-0400
TZOFFSETTO:-0500
TZNAME:EST
DTSTART:20251102T060000
END:STANDARD
END:VTIMEZONE
BEGIN:VEVENT
DTSTART;TZID=America/New_York:20250321T190000
DTEND;TZID=America/New_York:20250321T230000
DTSTAMP:20260421T185622
CREATED:20250203T194141Z
LAST-MODIFIED:20250321T174401Z
UID:10010464-1742583600-1742598000@www.thecarlebachshul.org
SUMMARY:Friday\, March 21st: Reb Eli Chaim Carlebach Yahrzeit Commemoration - with Rabbi Naftali Citron and Rabbi Herschel Reichman
DESCRIPTION:Eli Chaim\, as he was affectionately known to us\, was a warm and caring presence here at the Carlebach Shul. Reb Eli Chaim opened the doors to the lost world of the Chassidic masters through his Institute’s publishing of encyclopedias of Chassidut. \nPlease join the Carlebach Shul and the friends and family of Reb Eli Chaim for this special Shabbat celebrating and remembering his life and legacy\, featuring guest speaker Rabbi Herschel Reichman. \nRabbi Hershel Reichman is one of the foremost expounders of the teachings of Rabbi Joseph B. Soloveitchik. Rabbi Reichman also teaches Chassidic thought\, with an emphasis on the teachings of the Shem Mishmuel. \nReservations are now closed for Shabbat Dinner.
URL:https://www.thecarlebachshul.org/event/reb-eli-chaim-carlebach-yahrzeit-commemoration-2/
CATEGORIES:Shabbat,Special Events
END:VEVENT
END:VCALENDAR