BEGIN:VCALENDAR
VERSION:2.0
PRODID:-//The Carlebach Shul - ECPv6.2.9//NONSGML v1.0//EN
CALSCALE:GREGORIAN
METHOD:PUBLISH
X-ORIGINAL-URL:https://www.thecarlebachshul.org
X-WR-CALDESC:Events for The Carlebach Shul
REFRESH-INTERVAL;VALUE=DURATION:PT1H
X-Robots-Tag:noindex
X-PUBLISHED-TTL:PT1H
BEGIN:VTIMEZONE
TZID:America/New_York
BEGIN:DAYLIGHT
TZOFFSETFROM:-0500
TZOFFSETTO:-0400
TZNAME:EDT
DTSTART:20250309T070000
END:DAYLIGHT
BEGIN:STANDARD
TZOFFSETFROM:-0400
TZOFFSETTO:-0500
TZNAME:EST
DTSTART:20251102T060000
END:STANDARD
END:VTIMEZONE
BEGIN:VEVENT
DTSTART;TZID=America/New_York:20250502T211500
DTEND;TZID=America/New_York:20250502T233000
DTSTAMP:20260421T222150
CREATED:20250429T134651Z
LAST-MODIFIED:20250502T220124Z
UID:10012149-1746220500-1746228600@www.thecarlebachshul.org
SUMMARY:Yom Ha'atzmaut Celebration & Shabbat Dinner
DESCRIPTION:Friday night\, May 2nd\nMincha\, followed by Kabbalat Shabbat with Yehuda Green: 7:35  PM\nYom Ha’Atzmaut celebration after Kabbalat Shabbat \nOur hearts go out to those in the Jerusalem area battling the forest fires.  \nLet us celebrate Shabbat with a holy fire. \nWine tasting featuring some of the finest wines grown in the Judean Hills.\nSmoked fish & Appetizers \n9:15 PM – 10:00 PM\nAdmission is Free; reservations required\nSponsors Welcome \nReservations have now closed for tonight’s event\, we hope to see you all there. \nClick here to sponsor
URL:https://www.thecarlebachshul.org/event/yom-haatzmaut-2025/
CATEGORIES:Shabbat,Special Events
END:VEVENT
END:VCALENDAR